BEGIN:VCALENDAR
PRODID:-//Microsoft Corporation//Outlook 12.0 MIMEDIR//EN
VERSION:2.0
CALSCALE:GREGORIAN
BEGIN:VEVENT
UID: 48dfcacd-755d-459d-be8c-bbc72d2dccce
SUMMARY:Tasuline koolitus: Sõstrapõõsa (ja vaarika) hoolduslõikus (ja pistikutega paljundamine)
DTSTAMP:20241005
DTSTART:20241005
DTEND:20241006
DURATION:P1D
LOCATION:Olustvere
DESCRIPTION: <p>Tasuline koolitus: <span><strong>Sõstrapõõsa (ja vaarika) hoolduslõikus (ja pistikutega paljundamine)</strong></span></p><p><span><strong>Koolituse pikkus: </strong>6 tund<strong>i</strong></span></p><p><span><strong>Koolitus toimub: tellimisel</strong></span></p><p><span><strong>Koolituse maksumus</strong>: 49 eurot</span></p><p><span><strong>Koolituse läbinud õppija:</strong></span></p><ul><li><p class="text-align-justify"><span>Teostab nõuetekohaselt sõstra ja karusmarjapõõsaste ning vaarika hoolduslõikust</span></p></li><li><p class="text-align-justify"><span>Paljundab sõstra- ja karusmarjapõõsaid ning vaarikataimi</span></p></li><li><p class="text-align-justify"><span>Tunneb ära ning oskab tõrjuda sõstra- ja karusmarjapõõsa ning vaarikataimedel esinevaid haigusi ning kahjureid.</span></p></li></ul><p><span><strong>Koolitaja: Liisi Kont&nbsp;– </strong>Räpina Aianduskooli õpetaja</span></p><p><span>Koolituse täpsema õppekava leiad </span><a href="https://www.olustvere.edu.ee/sites/olustvere.edu.ee/files/2024-08/S%C3%B5strap%C3%B5%C3%B5sa_ja_vaarika_hooldusl%C3%B5ikus_ja_pistokstega_paljundamine.pdf"><span>SIIT</span></a></p><p><span>Koolitusele saad registreerida </span><a href="https://docs.google.com/forms/d/12B3ZxrvgxHdrcPbyOQXezLD3c7ZTs5hR6HaR9UEBhAA/"><span>SIIN</span></a></p><p>&nbsp;</p><p>&nbsp;</p><p><strong>Link: </strong>https://www.olustvere.edu.ee/et/koolituste-kalender/tasuline-koolitus-sostrapoosa-ja-vaarika-hooldusloikus-ja-pistikutega-paljundamine</p><p><strong>Hind: </strong></p>
STATUS:CONFIRMED
SEQUENCE:3
X-ALT-DESC;FMTTYPE=text/html:<p>Tasuline koolitus: <span><strong>Sõstrapõõsa (ja vaarika) hoolduslõikus (ja pistikutega paljundamine)</strong></span></p><p><span><strong>Koolituse pikkus: </strong>6 tund<strong>i</strong></span></p><p><span><strong>Koolitus toimub: tellimisel</strong></span></p><p><span><strong>Koolituse maksumus</strong>: 49 eurot</span></p><p><span><strong>Koolituse läbinud õppija:</strong></span></p><ul><li><p class="text-align-justify"><span>Teostab nõuetekohaselt sõstra ja karusmarjapõõsaste ning vaarika hoolduslõikust</span></p></li><li><p class="text-align-justify"><span>Paljundab sõstra- ja karusmarjapõõsaid ning vaarikataimi</span></p></li><li><p class="text-align-justify"><span>Tunneb ära ning oskab tõrjuda sõstra- ja karusmarjapõõsa ning vaarikataimedel esinevaid haigusi ning kahjureid.</span></p></li></ul><p><span><strong>Koolitaja: Liisi Kont&nbsp;– </strong>Räpina Aianduskooli õpetaja</span></p><p><span>Koolituse täpsema õppekava leiad </span><a href="https://www.olustvere.edu.ee/sites/olustvere.edu.ee/files/2024-08/S%C3%B5strap%C3%B5%C3%B5sa_ja_vaarika_hooldusl%C3%B5ikus_ja_pistokstega_paljundamine.pdf"><span>SIIT</span></a></p><p><span>Koolitusele saad registreerida </span><a href="https://docs.google.com/forms/d/12B3ZxrvgxHdrcPbyOQXezLD3c7ZTs5hR6HaR9UEBhAA/"><span>SIIN</span></a></p><p>&nbsp;</p><p>&nbsp;</p><p><strong>Link: </strong>https://www.olustvere.edu.ee/et/koolituste-kalender/tasuline-koolitus-sostrapoosa-ja-vaarika-hooldusloikus-ja-pistikutega-paljundamine</p><p><strong>Hind: </strong></p>
X-MICROSOFT-CDO-BUSYSTATUS:OOF
X-MICROSOFT-CDO-IMPORTANCE:1
X-MICROSOFT-DISALLOW-COUNTER:FALSE
X-MS-OLK-ALLOWEXTERNCHECK:TRUE
X-MS-OLK-CONFTYPE:0
X-MICROSOFT-CDO-ALLDAYEVENT:1
X-MICROSOFT-MSNCALENDAR-ALLDAYEVENT:1
END:VEVENT
END:VCALENDAR