BEGIN:VCALENDAR
PRODID:-//Microsoft Corporation//Outlook 12.0 MIMEDIR//EN
VERSION:2.0
CALSCALE:GREGORIAN
BEGIN:VEVENT
UID: e145867e-131f-4958-b766-615d516bf08e
SUMMARY:ESF VÕTI programmi koolitus: Puu- ja juurviljade ning marjade tööstuslik kiirkülmutamine
DTSTAMP:20251127
DTSTART:20251127
DTEND:20251212
DURATION:P15D
LOCATION:Olustvere
DESCRIPTION: <p><span><strong>ESF VÕTI programmi koolitus: Puu- ja juurviljade ning marjade tööstuslik kiirkülmutamine&nbsp;</strong></span></p><p><span><strong>Koolituse pikkus: </strong>32 tundi</span></p><p><span><strong>Koolitus toimub: 27. ja 28. november ning 10. ja 11. detsember 2025</strong></span></p><p><span><strong>27-28.11 aadressil Polli, Uus tn 2, Polli küla</strong></span></p><p><span><strong>10-11.12 aadressil Müüri 4, Olustvere</strong></span></p><p><span><strong>Koolituse läbinud õppija:</strong></span></p><ul><li><span>kiirkülmutab puu- ja aedviljatooted ning marju lähtuvalt tehnoloogilise juhendi nõuetest</span></li><li><span>tunneb kiirkülmutusega seotud seadusandlust</span></li><li><span>teab töö- ja toiduohutuse nõudeid külmutusagregaatidega töötamisel</span></li></ul><p><span><strong>Koolitajad:</strong></span></p><p><span><strong>Uku Bleive,</strong> PhD. Polli aiandusuuringute keskuse tehnoloogiaüksuse juht&nbsp;</span></p><p><span><strong>R. Pilv. </strong>MTÜ Eesti Külmaliidu tegevjuht</span></p><p><span><strong>Reti Randoja-Muts</strong>&nbsp; - Olustvere Teenindus- ja Maamajanduskooli aianduse kutseõpetaja</span></p><p><span><strong>Edgar Lepman</strong> – Olustvere Teenindus- ja Maamajanduskooli õppetööstuse juhataja, toiduainete tehnoloog</span></p><p><span>Koolitus on osalejatele tasuta ning selle läbiviimist toetavad EL Sotsiaalfond ja Haridus- ja Teadusministeerium</span></p><p><span><strong>Koolituse täpsema õppekava</strong> leiad </span><a href="https://www.olustvere.edu.ee/sites/olustvere.edu.ee/files/2025-02/Puu_ja_juurviljade_k%C3%BClmutamine.docx"><span>SIIT</span></a></p><p>Koolitusele saad registreerida <a href="https://docs.google.com/forms/d/1agvlTFGsTD4MsrcqHDI0Dkvayx0zb-11Yv76FmlexwA/">SIIN</a></p><p>Täpsem kava:</p><p>27.11. Polli Aiandusuuringute Keskus</p><p>• &nbsp; &nbsp; Jahutus-, külmutusseadmete tööpõhimõte;</p><p>• &nbsp; &nbsp; Töö- ja toiduohutus külmutamisagregaatidega töötamisel</p><p>• &nbsp; &nbsp; Kehtiv seadusandlus</p><p>28.11 Polli Aiandusuuringute Keskus</p><p>• &nbsp; &nbsp; Viljade koristusküpsus, puuviljade, marjade koristamine ja koristusjärgne käitlemine, säilivust mõjutavad tegurid, etüleeni tundlikus.</p><p>• &nbsp; &nbsp; Puuviljahoidlad, kontrollitud atmosfääri hoidlate tehnosüsteemid, jahehoidlate planeerimise lähteülesande koostamine, hoidlate ja väiketöötlemise planeerimine.</p><p>• &nbsp; &nbsp; Külmhoidla ja kiirkülmuti lahendusega tutvumine. Tooraine ettevalmistamine külmkuivatamiseks ja külmkuivatamise seadmed.</p><p>• &nbsp; &nbsp; Erinevate külmutamiskiiruste mõju. Külmkuivatatud materjali laboratoorne analüüs ja külmkuivatatud materjalide edasine käitlemine.</p><p>10-11.12 Olustvere TMK (teemad võivad muutuda)</p><p>• &nbsp; &nbsp; Marjakultuuride agrotehnika</p><p>• &nbsp; &nbsp; Puuvilja aiaplaani koostamise alused</p><p>• &nbsp; &nbsp; Hapulembeliste marjakultuuride aia rajamine</p><p><strong>Link: </strong>https://www.olustvere.edu.ee/et/koolituste-kalender/esf-voti-programmi-koolitus-puu-ja-juurviljade-ning-marjade-toostuslik-kiirkulmutamine</p><p><strong>Hind: </strong>osalejale tasuta</p>
STATUS:CONFIRMED
SEQUENCE:3
X-ALT-DESC;FMTTYPE=text/html:<p><span><strong>ESF VÕTI programmi koolitus: Puu- ja juurviljade ning marjade tööstuslik kiirkülmutamine&nbsp;</strong></span></p><p><span><strong>Koolituse pikkus: </strong>32 tundi</span></p><p><span><strong>Koolitus toimub: 27. ja 28. november ning 10. ja 11. detsember 2025</strong></span></p><p><span><strong>27-28.11 aadressil Polli, Uus tn 2, Polli küla</strong></span></p><p><span><strong>10-11.12 aadressil Müüri 4, Olustvere</strong></span></p><p><span><strong>Koolituse läbinud õppija:</strong></span></p><ul><li><span>kiirkülmutab puu- ja aedviljatooted ning marju lähtuvalt tehnoloogilise juhendi nõuetest</span></li><li><span>tunneb kiirkülmutusega seotud seadusandlust</span></li><li><span>teab töö- ja toiduohutuse nõudeid külmutusagregaatidega töötamisel</span></li></ul><p><span><strong>Koolitajad:</strong></span></p><p><span><strong>Uku Bleive,</strong> PhD. Polli aiandusuuringute keskuse tehnoloogiaüksuse juht&nbsp;</span></p><p><span><strong>R. Pilv. </strong>MTÜ Eesti Külmaliidu tegevjuht</span></p><p><span><strong>Reti Randoja-Muts</strong>&nbsp; - Olustvere Teenindus- ja Maamajanduskooli aianduse kutseõpetaja</span></p><p><span><strong>Edgar Lepman</strong> – Olustvere Teenindus- ja Maamajanduskooli õppetööstuse juhataja, toiduainete tehnoloog</span></p><p><span>Koolitus on osalejatele tasuta ning selle läbiviimist toetavad EL Sotsiaalfond ja Haridus- ja Teadusministeerium</span></p><p><span><strong>Koolituse täpsema õppekava</strong> leiad </span><a href="https://www.olustvere.edu.ee/sites/olustvere.edu.ee/files/2025-02/Puu_ja_juurviljade_k%C3%BClmutamine.docx"><span>SIIT</span></a></p><p>Koolitusele saad registreerida <a href="https://docs.google.com/forms/d/1agvlTFGsTD4MsrcqHDI0Dkvayx0zb-11Yv76FmlexwA/">SIIN</a></p><p>Täpsem kava:</p><p>27.11. Polli Aiandusuuringute Keskus</p><p>• &nbsp; &nbsp; Jahutus-, külmutusseadmete tööpõhimõte;</p><p>• &nbsp; &nbsp; Töö- ja toiduohutus külmutamisagregaatidega töötamisel</p><p>• &nbsp; &nbsp; Kehtiv seadusandlus</p><p>28.11 Polli Aiandusuuringute Keskus</p><p>• &nbsp; &nbsp; Viljade koristusküpsus, puuviljade, marjade koristamine ja koristusjärgne käitlemine, säilivust mõjutavad tegurid, etüleeni tundlikus.</p><p>• &nbsp; &nbsp; Puuviljahoidlad, kontrollitud atmosfääri hoidlate tehnosüsteemid, jahehoidlate planeerimise lähteülesande koostamine, hoidlate ja väiketöötlemise planeerimine.</p><p>• &nbsp; &nbsp; Külmhoidla ja kiirkülmuti lahendusega tutvumine. Tooraine ettevalmistamine külmkuivatamiseks ja külmkuivatamise seadmed.</p><p>• &nbsp; &nbsp; Erinevate külmutamiskiiruste mõju. Külmkuivatatud materjali laboratoorne analüüs ja külmkuivatatud materjalide edasine käitlemine.</p><p>10-11.12 Olustvere TMK (teemad võivad muutuda)</p><p>• &nbsp; &nbsp; Marjakultuuride agrotehnika</p><p>• &nbsp; &nbsp; Puuvilja aiaplaani koostamise alused</p><p>• &nbsp; &nbsp; Hapulembeliste marjakultuuride aia rajamine</p><p><strong>Link: </strong>https://www.olustvere.edu.ee/et/koolituste-kalender/esf-voti-programmi-koolitus-puu-ja-juurviljade-ning-marjade-toostuslik-kiirkulmutamine</p><p><strong>Hind: </strong>osalejale tasuta</p>
X-MICROSOFT-CDO-BUSYSTATUS:OOF
X-MICROSOFT-CDO-IMPORTANCE:1
X-MICROSOFT-DISALLOW-COUNTER:FALSE
X-MS-OLK-ALLOWEXTERNCHECK:TRUE
X-MS-OLK-CONFTYPE:0
X-MICROSOFT-CDO-ALLDAYEVENT:1
X-MICROSOFT-MSNCALENDAR-ALLDAYEVENT:1
END:VEVENT
END:VCALENDAR