BEGIN:VCALENDAR
PRODID:-//Microsoft Corporation//Outlook 12.0 MIMEDIR//EN
VERSION:2.0
CALSCALE:GREGORIAN
BEGIN:VEVENT
UID: cb0f54fc-069a-4513-8e5c-a1c1e4da5e2a
SUMMARY:ESF VÕTI programmi koolitus: Karjahaldustarkvara lahendused lamba-ja kitsekasvatajatele
DTSTAMP:20250215T000000
DTSTART:20250215T000000
DTEND:20250215T235900
LOCATION:Olustvere
DESCRIPTION: <p><strong>ESF VÕTI programmi koolitus: Karjahaldustarkvara lahendused lamba-ja kitsekasvatajatele</strong></p><p><strong>Kolituse pikkus:</strong> 32 tundi</p><p><strong>Koolitus toimub:</strong> kuupäev täpsustamisel</p><p><strong>Koolituse läbinud õppija:</strong></p><ul><li>Koostab tootmisaruandeid ning dokumentatsiooni tarkvaralahendusi kasutades:<ul><li>söötmisplaan ja söödavajadused</li><li>sõnnikukalkulaator</li><li>karjamaade kasutus</li><li>arvutused - finantsplaneerimine&nbsp;</li></ul></li><li>Edastab ametiasutustele teavet kasutades tarkvaralahendusi&nbsp;</li><li>Analüüsib tootmisprotessist tulenevat informatsiooni</li><li>Kasutab veebipõhiseid ühistöövahendeid.</li><li>Oskab veebist vajaliku informatsiooni leidmiseks kasutada erinevaid otsingumootoreid<span>.&nbsp;</span></li><li>Liigendab informatsiooni metoodiliselt, luues kaustu ja faile, et neid hiljem kergemini üles leida.</li></ul><p><strong>Koolitajad:</strong></p><p><span><strong>Ell Sellis,&nbsp;</strong>Lamba-ja Kitsekasvatajate Liidu&nbsp; juhatuse liige, nõustaja MES, lambakasvataja.</span></p><p><span><strong>Marika Oeselg</strong> - loomakasvatusõpetaja, Olustvere Teenindus- ja Maamajanduskool</span></p><p>Koolitust toetavad EL Sotsiaalfond ning Haridus- ja Teadusministeerium ning see on osalejatele TASUTA</p><p>Koolituse täpsema õppekava leiad <a href="https://www.olustvere.edu.ee/sites/olustvere.edu.ee/files/2025-02/Karjahaldustarkvara%20lahendused%20lamba-ja%20kitsekasvatajatele_0.doc">SIIT</a></p><p><strong>Link: </strong>https://www.olustvere.edu.ee/et/koolituste-kalender/esf-voti-programmi-koolitus-karjahaldustarkvara-lahendused-lamba-ja-kitsekasvatajatele</p><p><strong>Hind: </strong>osalejale tasuta</p>
STATUS:CONFIRMED
SEQUENCE:3
X-ALT-DESC;FMTTYPE=text/html:<p><strong>ESF VÕTI programmi koolitus: Karjahaldustarkvara lahendused lamba-ja kitsekasvatajatele</strong></p><p><strong>Kolituse pikkus:</strong> 32 tundi</p><p><strong>Koolitus toimub:</strong> kuupäev täpsustamisel</p><p><strong>Koolituse läbinud õppija:</strong></p><ul><li>Koostab tootmisaruandeid ning dokumentatsiooni tarkvaralahendusi kasutades:<ul><li>söötmisplaan ja söödavajadused</li><li>sõnnikukalkulaator</li><li>karjamaade kasutus</li><li>arvutused - finantsplaneerimine&nbsp;</li></ul></li><li>Edastab ametiasutustele teavet kasutades tarkvaralahendusi&nbsp;</li><li>Analüüsib tootmisprotessist tulenevat informatsiooni</li><li>Kasutab veebipõhiseid ühistöövahendeid.</li><li>Oskab veebist vajaliku informatsiooni leidmiseks kasutada erinevaid otsingumootoreid<span>.&nbsp;</span></li><li>Liigendab informatsiooni metoodiliselt, luues kaustu ja faile, et neid hiljem kergemini üles leida.</li></ul><p><strong>Koolitajad:</strong></p><p><span><strong>Ell Sellis,&nbsp;</strong>Lamba-ja Kitsekasvatajate Liidu&nbsp; juhatuse liige, nõustaja MES, lambakasvataja.</span></p><p><span><strong>Marika Oeselg</strong> - loomakasvatusõpetaja, Olustvere Teenindus- ja Maamajanduskool</span></p><p>Koolitust toetavad EL Sotsiaalfond ning Haridus- ja Teadusministeerium ning see on osalejatele TASUTA</p><p>Koolituse täpsema õppekava leiad <a href="https://www.olustvere.edu.ee/sites/olustvere.edu.ee/files/2025-02/Karjahaldustarkvara%20lahendused%20lamba-ja%20kitsekasvatajatele_0.doc">SIIT</a></p><p><strong>Link: </strong>https://www.olustvere.edu.ee/et/koolituste-kalender/esf-voti-programmi-koolitus-karjahaldustarkvara-lahendused-lamba-ja-kitsekasvatajatele</p><p><strong>Hind: </strong>osalejale tasuta</p>
X-MICROSOFT-CDO-BUSYSTATUS:OOF
X-MICROSOFT-CDO-IMPORTANCE:1
X-MICROSOFT-DISALLOW-COUNTER:FALSE
X-MS-OLK-ALLOWEXTERNCHECK:TRUE
X-MS-OLK-CONFTYPE:0
X-MICROSOFT-CDO-ALLDAYEVENT:
X-MICROSOFT-MSNCALENDAR-ALLDAYEVENT:
END:VEVENT
END:VCALENDAR