BEGIN:VCALENDAR
PRODID:-//Microsoft Corporation//Outlook 12.0 MIMEDIR//EN
VERSION:2.0
CALSCALE:GREGORIAN
BEGIN:VEVENT
UID: 389b9ac1-7d61-4705-a693-fad28e037901
SUMMARY:ESF ROHE programmi koolitus: Roheliste teenuste arendamine ehk keskkonna ja kvaliteedi juhtimine maaturismi väikeettevõttes
DTSTAMP:20250217T000000
DTSTART:20250217T000000
DTEND:20250217T235900
LOCATION:Olustvere
DESCRIPTION: <p><strong>ESF ROHE programmi koolitus: Roheliste teenuste arendamine ehk keskkonna ja kvaliteedi juhtimine maaturismi väikeettevõttes</strong></p><p><strong>Koolituse pikkus:</strong> 48 tundi</p><p><strong>Koolitus toimub</strong>: 11.märts, 25.märts, 8.aprill, 22.aprill ja 13.mai 2025</p><p><strong>Koolituse läbinud õppija:</strong></p><p><span>1) Mõistab jätkusuutliku arengu põhiprintsiipe oma teenuste arendustegevuste planeerimisel, arvestades sihtkoha ja piiranguid ja võimalusi</span></p><p><span>2) Mõistab teenuste uuendamise / disainimise põhimõtteid arvestades jätkusuutliku arengu põhiprintsiipe</span></p><p><span>3) Teab Eesti ökomärgiste taotlemise protsesse/tegevusi&nbsp;</span></p><p><span>4) Kaardistab enda ettevõtte võimalusi teenuste keskkonnasõbralikuks disainimisel</span></p><p><strong>Koolitajad:</strong></p><p><strong>Aivar Ruukel - </strong><span>soomaa.com omanik-ettevõtja, kauaaegne praktik keskkonnasõbralike matkateenuste loomises ja läbiviimises ning Soomaa kui rohelise sihtkoha turundamises; pikaaegse koolituskogemusega (sh rahvusvahelised koolitused) koolitaja teemadel ökoturism, loodusturism, kogukonna kaasamine, matkakorraldus, digiturundus</span></p><p><strong>Koolitust toetavad Euroopa Liidu Sotsiaalfond ja Haridus- ja Teadusministeerium ning see on osalejatele TASUTA</strong></p><p>Täpsema õppekava leiad<a href="https://www.olustvere.edu.ee/sites/olustvere.edu.ee/files/2025-02/Roheliste%20teenuste%20arendamine%20ehk%20keskkonna%20ja%20kvaliteedi%20juhtimine%20maaturismi%20v%C3%A4ikeettev%C3%B5ttes.docx"> SIIT</a></p><p>Koolitusele saad registreerida <a href="https://docs.google.com/forms/d/1Ue9S-HFcuHdvOIUQ-LY9wbU3-AD4kjECNafhRb9EDMQ/">SIIN</a></p><p><strong>Link: </strong>https://www.olustvere.edu.ee/et/koolituste-kalender/esf-rohe-programmi-koolitus-roheliste-teenuste-arendamine-ehk-keskkonna-ja-kvaliteedi-juhtimine</p><p><strong>Hind: </strong>Osalejale tasuta</p>
STATUS:CONFIRMED
SEQUENCE:3
X-ALT-DESC;FMTTYPE=text/html:<p><strong>ESF ROHE programmi koolitus: Roheliste teenuste arendamine ehk keskkonna ja kvaliteedi juhtimine maaturismi väikeettevõttes</strong></p><p><strong>Koolituse pikkus:</strong> 48 tundi</p><p><strong>Koolitus toimub</strong>: 11.märts, 25.märts, 8.aprill, 22.aprill ja 13.mai 2025</p><p><strong>Koolituse läbinud õppija:</strong></p><p><span>1) Mõistab jätkusuutliku arengu põhiprintsiipe oma teenuste arendustegevuste planeerimisel, arvestades sihtkoha ja piiranguid ja võimalusi</span></p><p><span>2) Mõistab teenuste uuendamise / disainimise põhimõtteid arvestades jätkusuutliku arengu põhiprintsiipe</span></p><p><span>3) Teab Eesti ökomärgiste taotlemise protsesse/tegevusi&nbsp;</span></p><p><span>4) Kaardistab enda ettevõtte võimalusi teenuste keskkonnasõbralikuks disainimisel</span></p><p><strong>Koolitajad:</strong></p><p><strong>Aivar Ruukel - </strong><span>soomaa.com omanik-ettevõtja, kauaaegne praktik keskkonnasõbralike matkateenuste loomises ja läbiviimises ning Soomaa kui rohelise sihtkoha turundamises; pikaaegse koolituskogemusega (sh rahvusvahelised koolitused) koolitaja teemadel ökoturism, loodusturism, kogukonna kaasamine, matkakorraldus, digiturundus</span></p><p><strong>Koolitust toetavad Euroopa Liidu Sotsiaalfond ja Haridus- ja Teadusministeerium ning see on osalejatele TASUTA</strong></p><p>Täpsema õppekava leiad<a href="https://www.olustvere.edu.ee/sites/olustvere.edu.ee/files/2025-02/Roheliste%20teenuste%20arendamine%20ehk%20keskkonna%20ja%20kvaliteedi%20juhtimine%20maaturismi%20v%C3%A4ikeettev%C3%B5ttes.docx"> SIIT</a></p><p>Koolitusele saad registreerida <a href="https://docs.google.com/forms/d/1Ue9S-HFcuHdvOIUQ-LY9wbU3-AD4kjECNafhRb9EDMQ/">SIIN</a></p><p><strong>Link: </strong>https://www.olustvere.edu.ee/et/koolituste-kalender/esf-rohe-programmi-koolitus-roheliste-teenuste-arendamine-ehk-keskkonna-ja-kvaliteedi-juhtimine</p><p><strong>Hind: </strong>Osalejale tasuta</p>
X-MICROSOFT-CDO-BUSYSTATUS:OOF
X-MICROSOFT-CDO-IMPORTANCE:1
X-MICROSOFT-DISALLOW-COUNTER:FALSE
X-MS-OLK-ALLOWEXTERNCHECK:TRUE
X-MS-OLK-CONFTYPE:0
X-MICROSOFT-CDO-ALLDAYEVENT:
X-MICROSOFT-MSNCALENDAR-ALLDAYEVENT:
END:VEVENT
END:VCALENDAR