BEGIN:VCALENDAR
PRODID:-//Microsoft Corporation//Outlook 12.0 MIMEDIR//EN
VERSION:2.0
CALSCALE:GREGORIAN
BEGIN:VEVENT
UID: e164e8b2-6e5f-443a-aebc-e733df2a5312
SUMMARY:ESF ÕÜF programmi koolitus:  Kestlik kala kohalikul toidulaual 
DTSTAMP:20250514T000000
DTSTART:20250514T000000
DTEND:20250530T235900
LOCATION:Ida-Virumaa
DESCRIPTION: <p><strong>ESF ÕÜF programmi koolitus: </strong><span><strong>Kestlik kala kohalikul toidulaual&nbsp;</strong></span></p><p><span><strong>Koolituse pikkus:</strong> 48 tundi</span></p><p><span><strong>Koolitus toimub:</strong> 14.mai, 15.mai, 16.mai, 28.mai, 29.mai ja 30.mai 2026</span></p><p><span><strong>Koolituse läbinud õppija:</strong></span></p><ul><li data-list-item-id="ebd709be4fddf312c0ed6c7292648a13b"><span>teab ja tunneb kohalikku st. eesti päritolu kala ja mereande</span></li><li data-list-item-id="ec56cab639295b90d5f52e292ff97a64e"><span>väärindab tooraine arvestades toiduohutuse ja toiduhügieeni nõuetega</span></li><li data-list-item-id="eb1c1a244bf544994ee9b8d6509474c61"><span>valmistab jätkusuutlikul viisil kalatoite ja tooteid</span></li></ul><p><span><strong>Koolitajad:</strong></span></p><p><span><strong>Eve Klettenberg</strong>&nbsp; - Olustvere Teenindus- ja Maamajanduskooli lihatoodete tehnoloogia kutseõpetaja, praktik. Toodab igapäevaselt koolile kuuluvas õppetööstuses lihatooteid müügiks.&nbsp;</span></p><p><span><strong>Kaiti Pirs</strong> – Olustvere Teenindus- ja Maamajanduskooli koka õpetaja, praktik</span></p><p><span><strong>Koolitust toetavad EL Sotsiaalfond ning Haridus- ja Teadusministeerium ning see on osalejatele TASUTA.</strong></span></p><p><span><strong>Koolitusel saavad osaleda Ida-Virumaa ettevõtjad ja elanikud. Vabade kohtade olemas olul teiste Eesti piirkondade ettevõtjad</strong></span></p><p><span>Koolituse täpsema õppekava leiad </span><a href="https://www.olustvere.edu.ee/sites/olustvere.edu.ee/files/2025-02/Kestlik_kala_kohalikul_toidulaual.docx"><span>SIIT</span></a></p><p>Koolitusele saad registreerida <a href="https://docs.google.com/forms/d/1T7ZuPd12i1Y-SGIyKNUdf5TTn_Ufz73Tl_P5-q_r_A0/">SIIN</a></p><p><strong>Link: </strong>https://www.olustvere.edu.ee/et/koolituste-kalender/esf-ouf-programmi-koolitus-kestlik-kala-kohalikul-toidulaual</p><p><strong>Hind: </strong>Osalejale tasuta</p>
STATUS:CONFIRMED
SEQUENCE:3
X-ALT-DESC;FMTTYPE=text/html:<p><strong>ESF ÕÜF programmi koolitus: </strong><span><strong>Kestlik kala kohalikul toidulaual&nbsp;</strong></span></p><p><span><strong>Koolituse pikkus:</strong> 48 tundi</span></p><p><span><strong>Koolitus toimub:</strong> 14.mai, 15.mai, 16.mai, 28.mai, 29.mai ja 30.mai 2026</span></p><p><span><strong>Koolituse läbinud õppija:</strong></span></p><ul><li data-list-item-id="ebd709be4fddf312c0ed6c7292648a13b"><span>teab ja tunneb kohalikku st. eesti päritolu kala ja mereande</span></li><li data-list-item-id="ec56cab639295b90d5f52e292ff97a64e"><span>väärindab tooraine arvestades toiduohutuse ja toiduhügieeni nõuetega</span></li><li data-list-item-id="eb1c1a244bf544994ee9b8d6509474c61"><span>valmistab jätkusuutlikul viisil kalatoite ja tooteid</span></li></ul><p><span><strong>Koolitajad:</strong></span></p><p><span><strong>Eve Klettenberg</strong>&nbsp; - Olustvere Teenindus- ja Maamajanduskooli lihatoodete tehnoloogia kutseõpetaja, praktik. Toodab igapäevaselt koolile kuuluvas õppetööstuses lihatooteid müügiks.&nbsp;</span></p><p><span><strong>Kaiti Pirs</strong> – Olustvere Teenindus- ja Maamajanduskooli koka õpetaja, praktik</span></p><p><span><strong>Koolitust toetavad EL Sotsiaalfond ning Haridus- ja Teadusministeerium ning see on osalejatele TASUTA.</strong></span></p><p><span><strong>Koolitusel saavad osaleda Ida-Virumaa ettevõtjad ja elanikud. Vabade kohtade olemas olul teiste Eesti piirkondade ettevõtjad</strong></span></p><p><span>Koolituse täpsema õppekava leiad </span><a href="https://www.olustvere.edu.ee/sites/olustvere.edu.ee/files/2025-02/Kestlik_kala_kohalikul_toidulaual.docx"><span>SIIT</span></a></p><p>Koolitusele saad registreerida <a href="https://docs.google.com/forms/d/1T7ZuPd12i1Y-SGIyKNUdf5TTn_Ufz73Tl_P5-q_r_A0/">SIIN</a></p><p><strong>Link: </strong>https://www.olustvere.edu.ee/et/koolituste-kalender/esf-ouf-programmi-koolitus-kestlik-kala-kohalikul-toidulaual</p><p><strong>Hind: </strong>Osalejale tasuta</p>
X-MICROSOFT-CDO-BUSYSTATUS:OOF
X-MICROSOFT-CDO-IMPORTANCE:1
X-MICROSOFT-DISALLOW-COUNTER:FALSE
X-MS-OLK-ALLOWEXTERNCHECK:TRUE
X-MS-OLK-CONFTYPE:0
X-MICROSOFT-CDO-ALLDAYEVENT:
X-MICROSOFT-MSNCALENDAR-ALLDAYEVENT:
END:VEVENT
END:VCALENDAR