BEGIN:VCALENDAR
PRODID:-//Microsoft Corporation//Outlook 12.0 MIMEDIR//EN
VERSION:2.0
CALSCALE:GREGORIAN
BEGIN:VEVENT
UID: 5ba89501-db01-4f88-889f-e1e04115d6b9
SUMMARY:ESF VÕTI programmi koolitus: Alustava ettevõtja koolitus
DTSTAMP:20250502T000000
DTSTART:20250502T000000
DTEND:20260620T235900
LOCATION:Olustvere
DESCRIPTION: <p><strong>ESF VÕTI programmi koolitus: Alustava ettevõtja koolitus</strong></p><p><strong>Koolituse pikkus: </strong>62 tundi</p><p><strong>Koolitus toimub:</strong> 2. mai, 9. mai, 16. mai, 12.-13. juuni ja 19.-20. juuni 2026</p><p><strong>Koolituse läbinud õppija:</strong></p><ol><li data-list-item-id="e15c645cc9fafcd00084c506163ce8edb"><span>mõistab majanduse olemust ja majanduskeskkonna toimimist ühiskonnas</span></li><li data-list-item-id="ee384fafc33d540fe168a19a8062da38d"><span>mõtestab oma rolli ettevõtluskeskkonnas arvestades kutsealast teavet ja õigusakte ning väikeettevõtluse põhitõdesid</span></li><li data-list-item-id="e8f95d6fbc0ce9835da4a467038913cf0"><span>loob ja kirjeldab äriprotsessid</span></li><li data-list-item-id="e22132c7acbf04cf2feb7512f488464d7"><span>leiab turusituatsiooni arvestades toote idee ja sellele vastava sihtgrupi, kasutades info hankimiseks erinevaid erialaseid allikaid</span></li><li data-list-item-id="ea7a78c2707a221d8c002712112f90432"><span>kujundab ja valmistab sihtgrupist lähtudes toote ja/või teenuse</span></li><li data-list-item-id="e7cd13da437be9fd43336c8222b26a520"><span>oskab valida tootest/teenusest ning turusituatsioonist lähtuva ettevõtlusvormi</span></li><li data-list-item-id="e424553c3e13206e8d3f7245a17fc8055"><span>mõistab toote ja/või teenuse hinna kujundamise põhimõtteid, leiab sobivad müügikanalid ja korraldab toote ja/või teenuse müügi sh. kasutades digiturundust ja müüki</span></li><li data-list-item-id="e9f4ec634bf86c7ed264b3e786ef9d585"><span>koostab lähtuvalt ettevõtlusvormist individuaalse äriplaani</span></li></ol><p><strong>Koolitajad:</strong></p><p><span><strong>Eda Kivisild</strong> - ettevõtja, praktik. Olustvere Teenindus- ja Maamajanduskooli kutseõpetaja ettevõtlusega seotud moodulites</span></p><p><span><strong>Ene Raba</strong> - Olustvere Teenindus- ja Maamajanduskooli kutseõpetaja raamatupidamisega seotud moodulites</span></p><p><span><strong>Tarmo Sirkel</strong> – ettevõtja, praktik, Olustvere Teenindus- ja Maamajanduskooli kutseõpetaja digiturunduse ja müügi alal</span></p><p><strong>Koolitust toetavad EL Sotsiaalfond ning Haridus- ja Teadusministeerium ning see on osalejatele TASUTA</strong></p><p>Koolituse täpsema õppekava lei<a href="https://www.olustvere.edu.ee/sites/olustvere.edu.ee/files/2025-02/Alustava_ettev%C3%B5tja_koolitus.pdf">ad </a><a href="https://www.olustvere.edu.ee/sites/olustvere.edu.ee/files/2025-06/Alustava_ettev%C3%B5tja_koolitus.pdf">SIIT</a></p><p>Koolitusele saad registreerida<a href="https://docs.google.com/forms/d/1yvzXCMgHW6xRd05YLLBVz6CeoeIYrIsEe5AZQlQKTaE/"> SIIN</a></p><p><strong>Link: </strong>https://www.olustvere.edu.ee/et/koolituste-kalender/esf-voti-programmi-koolitus-alustava-ettevotja-koolitus</p><p><strong>Hind: </strong>Osalejale tasuta</p>
STATUS:CONFIRMED
SEQUENCE:3
X-ALT-DESC;FMTTYPE=text/html:<p><strong>ESF VÕTI programmi koolitus: Alustava ettevõtja koolitus</strong></p><p><strong>Koolituse pikkus: </strong>62 tundi</p><p><strong>Koolitus toimub:</strong> 2. mai, 9. mai, 16. mai, 12.-13. juuni ja 19.-20. juuni 2026</p><p><strong>Koolituse läbinud õppija:</strong></p><ol><li data-list-item-id="e15c645cc9fafcd00084c506163ce8edb"><span>mõistab majanduse olemust ja majanduskeskkonna toimimist ühiskonnas</span></li><li data-list-item-id="ee384fafc33d540fe168a19a8062da38d"><span>mõtestab oma rolli ettevõtluskeskkonnas arvestades kutsealast teavet ja õigusakte ning väikeettevõtluse põhitõdesid</span></li><li data-list-item-id="e8f95d6fbc0ce9835da4a467038913cf0"><span>loob ja kirjeldab äriprotsessid</span></li><li data-list-item-id="e22132c7acbf04cf2feb7512f488464d7"><span>leiab turusituatsiooni arvestades toote idee ja sellele vastava sihtgrupi, kasutades info hankimiseks erinevaid erialaseid allikaid</span></li><li data-list-item-id="ea7a78c2707a221d8c002712112f90432"><span>kujundab ja valmistab sihtgrupist lähtudes toote ja/või teenuse</span></li><li data-list-item-id="e7cd13da437be9fd43336c8222b26a520"><span>oskab valida tootest/teenusest ning turusituatsioonist lähtuva ettevõtlusvormi</span></li><li data-list-item-id="e424553c3e13206e8d3f7245a17fc8055"><span>mõistab toote ja/või teenuse hinna kujundamise põhimõtteid, leiab sobivad müügikanalid ja korraldab toote ja/või teenuse müügi sh. kasutades digiturundust ja müüki</span></li><li data-list-item-id="e9f4ec634bf86c7ed264b3e786ef9d585"><span>koostab lähtuvalt ettevõtlusvormist individuaalse äriplaani</span></li></ol><p><strong>Koolitajad:</strong></p><p><span><strong>Eda Kivisild</strong> - ettevõtja, praktik. Olustvere Teenindus- ja Maamajanduskooli kutseõpetaja ettevõtlusega seotud moodulites</span></p><p><span><strong>Ene Raba</strong> - Olustvere Teenindus- ja Maamajanduskooli kutseõpetaja raamatupidamisega seotud moodulites</span></p><p><span><strong>Tarmo Sirkel</strong> – ettevõtja, praktik, Olustvere Teenindus- ja Maamajanduskooli kutseõpetaja digiturunduse ja müügi alal</span></p><p><strong>Koolitust toetavad EL Sotsiaalfond ning Haridus- ja Teadusministeerium ning see on osalejatele TASUTA</strong></p><p>Koolituse täpsema õppekava lei<a href="https://www.olustvere.edu.ee/sites/olustvere.edu.ee/files/2025-02/Alustava_ettev%C3%B5tja_koolitus.pdf">ad </a><a href="https://www.olustvere.edu.ee/sites/olustvere.edu.ee/files/2025-06/Alustava_ettev%C3%B5tja_koolitus.pdf">SIIT</a></p><p>Koolitusele saad registreerida<a href="https://docs.google.com/forms/d/1yvzXCMgHW6xRd05YLLBVz6CeoeIYrIsEe5AZQlQKTaE/"> SIIN</a></p><p><strong>Link: </strong>https://www.olustvere.edu.ee/et/koolituste-kalender/esf-voti-programmi-koolitus-alustava-ettevotja-koolitus</p><p><strong>Hind: </strong>Osalejale tasuta</p>
X-MICROSOFT-CDO-BUSYSTATUS:OOF
X-MICROSOFT-CDO-IMPORTANCE:1
X-MICROSOFT-DISALLOW-COUNTER:FALSE
X-MS-OLK-ALLOWEXTERNCHECK:TRUE
X-MS-OLK-CONFTYPE:0
X-MICROSOFT-CDO-ALLDAYEVENT:
X-MICROSOFT-MSNCALENDAR-ALLDAYEVENT:
END:VEVENT
END:VCALENDAR