BEGIN:VCALENDAR
PRODID:-//Microsoft Corporation//Outlook 12.0 MIMEDIR//EN
VERSION:2.0
CALSCALE:GREGORIAN
BEGIN:VEVENT
UID: e79dde48-ee69-4c5c-baea-dce7cb7b5673
SUMMARY:ESF ÕÜF programmi koolitus: Praktiline ettevõtlusalane koolitus kindla toote valmistamise näitel
DTSTAMP:20250217T000000
DTSTART:20250217T000000
DTEND:20250217T235900
LOCATION:Ida-Virumaa
DESCRIPTION: <p><strong>ESF ÕÜF programmi koolitus: </strong><span><strong>Praktiline ettevõtlusalane koolitus kindla toote valmistamise näitel</strong></span></p><p><span>Koolituse pikkus: 92 tundi</span></p><p><span><strong>Koolitus toimub:</strong> kuupäevad täpsustamisel</span></p><p><span><strong>Koolitus toimub Ida Virumaal</strong></span></p><p><span><strong>Koolituse läbinud õppija:</strong></span></p><ol><li><span>mõistab majanduse olemust ja majanduskeskkonna toimimist ühiskonnas</span></li><li><span>mõtestab oma rolli ettevõtluskeskkonnas arvestades kutsealast teavet ja õigusakte ning väikeettevõtluse põhitõdesid</span></li><li><span>loob ja kirjeldab äriprotsessid</span></li><li><span>leiab turusituatsiooni arvestades toote idee ja sellele vastava sihtgrupi, kasutades info hankimiseks erinevaid erialaseid allikaid</span></li><li><span>kujundab ja valmistab sihtgrupist lähtudes toote ja/või teenuse</span></li><li><span>oskab valida tootest/teenusest ning turusituatsioonist lähtuva ettevõtlusvormi</span></li><li><span>mõistab toote ja/või teenuse hinna kujundamise põhimõtteid, leiab sobivad müügikanalid ja korraldab toote ja/või teenuse müügi sh. kasutades digiturundust ja müüki</span></li><li><span>koostab lähtuvalt ettevõtlusvormist ning valitud tootest individuaalse äriplaani</span></li></ol><p><span><strong>Koolitajad:</strong></span></p><p><span><strong>Kadi Vingissaar</strong> - ettevõtja, praktik. Olustvere Teenindus- ja Maamajanduskooli kutseõpetaja ettevõtlusega seotud moodulites</span></p><p><span><strong>Liivi Hansen</strong> – ettevõtja, praktik, Olustvere Teenindus- ja Maamajanduskooli kutseõpetaja raamatupidamisega seotud moodulites</span></p><p><span><strong>Miljan Talvet</strong> - Olustvere Teenindus- ja Maamajanduskooli kutseõpetaja raamatupidamisega seotud moodulites</span></p><p><span><strong>Tarmo Sirkel</strong> – ettevõtja, praktik, Olustvere Teenindus- ja Maamajanduskooli kutseõpetaja digiturunduse ja müügi alal</span></p><p><span><strong>Sandra Urvak</strong> – Olustvere Teenindus- ja Maamajanduskooli kutseõpetaja pärandtehnoloogia teemadel</span></p><p><span><strong>Eva-Liisa Kriis</strong> - Olustvere Teenindus- ja Maamajanduskooli kutseõpetaja kangakudumises</span></p><p><span><strong>Gitta Truus</strong> - Olustvere Teenindus- ja Maamajanduskooli kutseõpetaja tikkimises</span></p><p><span><strong>Aivi Tamm</strong> - Olustvere Teenindus- ja Maamajanduskooli kutseõpetaja heegeldamises, lapitöös</span></p><p><span><strong>Juta Rea</strong> - Olustvere Teenindus- ja Maamajanduskooli kutseõpetaja masinkudumises</span></p><p><span><strong>Eda Kivisild</strong> - Olustvere Teenindus- ja Maamajanduskooli kutseõpetaja silmuskudumises</span></p><p><span><strong>Koolitust toetavad EL Sotsiaalfond ning Haridus- ja Teadusministeerium ning see on osalejatele TASUTA</strong></span></p><p><span>Koolitusel saavad osaleda Ida Virumaa elanikud ning vabade kohtade olemas olul teiste Eesti piirkondade elanikud</span></p><p><span>Koolituse täpsema õppekava leiad </span><a href="https://www.olustvere.edu.ee/sites/olustvere.edu.ee/files/2025-02/Praktiline%20ettev%C3%B5tlusalane%20koolitus%20kindla%20toote%20valmistamise%20n%C3%A4itel_Ida_Virumaa.pdf"><span>SIIT</span></a></p><p>&nbsp;</p><p><strong>Link: </strong>https://www.olustvere.edu.ee/et/koolituste-kalender/esf-ouf-programmi-koolitus-praktiline-ettevotlusalane-koolitus-kindla-toote-valmistamise-naitel</p><p><strong>Hind: </strong>Osalejale tasuta</p>
STATUS:CONFIRMED
SEQUENCE:3
X-ALT-DESC;FMTTYPE=text/html:<p><strong>ESF ÕÜF programmi koolitus: </strong><span><strong>Praktiline ettevõtlusalane koolitus kindla toote valmistamise näitel</strong></span></p><p><span>Koolituse pikkus: 92 tundi</span></p><p><span><strong>Koolitus toimub:</strong> kuupäevad täpsustamisel</span></p><p><span><strong>Koolitus toimub Ida Virumaal</strong></span></p><p><span><strong>Koolituse läbinud õppija:</strong></span></p><ol><li><span>mõistab majanduse olemust ja majanduskeskkonna toimimist ühiskonnas</span></li><li><span>mõtestab oma rolli ettevõtluskeskkonnas arvestades kutsealast teavet ja õigusakte ning väikeettevõtluse põhitõdesid</span></li><li><span>loob ja kirjeldab äriprotsessid</span></li><li><span>leiab turusituatsiooni arvestades toote idee ja sellele vastava sihtgrupi, kasutades info hankimiseks erinevaid erialaseid allikaid</span></li><li><span>kujundab ja valmistab sihtgrupist lähtudes toote ja/või teenuse</span></li><li><span>oskab valida tootest/teenusest ning turusituatsioonist lähtuva ettevõtlusvormi</span></li><li><span>mõistab toote ja/või teenuse hinna kujundamise põhimõtteid, leiab sobivad müügikanalid ja korraldab toote ja/või teenuse müügi sh. kasutades digiturundust ja müüki</span></li><li><span>koostab lähtuvalt ettevõtlusvormist ning valitud tootest individuaalse äriplaani</span></li></ol><p><span><strong>Koolitajad:</strong></span></p><p><span><strong>Kadi Vingissaar</strong> - ettevõtja, praktik. Olustvere Teenindus- ja Maamajanduskooli kutseõpetaja ettevõtlusega seotud moodulites</span></p><p><span><strong>Liivi Hansen</strong> – ettevõtja, praktik, Olustvere Teenindus- ja Maamajanduskooli kutseõpetaja raamatupidamisega seotud moodulites</span></p><p><span><strong>Miljan Talvet</strong> - Olustvere Teenindus- ja Maamajanduskooli kutseõpetaja raamatupidamisega seotud moodulites</span></p><p><span><strong>Tarmo Sirkel</strong> – ettevõtja, praktik, Olustvere Teenindus- ja Maamajanduskooli kutseõpetaja digiturunduse ja müügi alal</span></p><p><span><strong>Sandra Urvak</strong> – Olustvere Teenindus- ja Maamajanduskooli kutseõpetaja pärandtehnoloogia teemadel</span></p><p><span><strong>Eva-Liisa Kriis</strong> - Olustvere Teenindus- ja Maamajanduskooli kutseõpetaja kangakudumises</span></p><p><span><strong>Gitta Truus</strong> - Olustvere Teenindus- ja Maamajanduskooli kutseõpetaja tikkimises</span></p><p><span><strong>Aivi Tamm</strong> - Olustvere Teenindus- ja Maamajanduskooli kutseõpetaja heegeldamises, lapitöös</span></p><p><span><strong>Juta Rea</strong> - Olustvere Teenindus- ja Maamajanduskooli kutseõpetaja masinkudumises</span></p><p><span><strong>Eda Kivisild</strong> - Olustvere Teenindus- ja Maamajanduskooli kutseõpetaja silmuskudumises</span></p><p><span><strong>Koolitust toetavad EL Sotsiaalfond ning Haridus- ja Teadusministeerium ning see on osalejatele TASUTA</strong></span></p><p><span>Koolitusel saavad osaleda Ida Virumaa elanikud ning vabade kohtade olemas olul teiste Eesti piirkondade elanikud</span></p><p><span>Koolituse täpsema õppekava leiad </span><a href="https://www.olustvere.edu.ee/sites/olustvere.edu.ee/files/2025-02/Praktiline%20ettev%C3%B5tlusalane%20koolitus%20kindla%20toote%20valmistamise%20n%C3%A4itel_Ida_Virumaa.pdf"><span>SIIT</span></a></p><p>&nbsp;</p><p><strong>Link: </strong>https://www.olustvere.edu.ee/et/koolituste-kalender/esf-ouf-programmi-koolitus-praktiline-ettevotlusalane-koolitus-kindla-toote-valmistamise-naitel</p><p><strong>Hind: </strong>Osalejale tasuta</p>
X-MICROSOFT-CDO-BUSYSTATUS:OOF
X-MICROSOFT-CDO-IMPORTANCE:1
X-MICROSOFT-DISALLOW-COUNTER:FALSE
X-MS-OLK-ALLOWEXTERNCHECK:TRUE
X-MS-OLK-CONFTYPE:0
X-MICROSOFT-CDO-ALLDAYEVENT:
X-MICROSOFT-MSNCALENDAR-ALLDAYEVENT:
END:VEVENT
END:VCALENDAR