BEGIN:VCALENDAR
PRODID:-//Microsoft Corporation//Outlook 12.0 MIMEDIR//EN
VERSION:2.0
CALSCALE:GREGORIAN
BEGIN:VEVENT
UID: 2d891f93-0285-4da8-b7b9-0cee54a4bd6e
SUMMARY:METK Infopäev Toidu märgistamise ABC
DTSTAMP:20251104T100000
DTSTART:20251104T100000
DTEND:20251104T140000
LOCATION:Olustvere
DESCRIPTION: <p><strong>METK Infopäev Toidu märgistamise ABC</strong></p><p><strong>Infopäev toimub:</strong> 4.november 2025, Olustveres</p><p><strong>Infopäeva pikkus:</strong> 10:00 - 14:00</p><p><span style="color:black;font-size:11pt;" data-olk-copy-source="MessageBody"><strong>Sihtrühm ja eesmärk</strong>: Teavitada väikekäitlejaid ja alustavaid käitlejaid toidu märgistamise nõuetest, sh toidugruppidele kehtivatest erinõuetest. Väikekäitlejad, alustavad käitlejad.</span></p><p><strong>Teemad</strong>:&nbsp;</p><ul type="square"><li class="x_x_MsoListParagraph"><span>Toidu märgistamise nõuded</span></li><li class="x_x_MsoListParagraph"><span>Toitumis- ja tervisealased väited</span></li><li class="x_x_MsoListParagraph"><span>Toidu nimetused ja toidugruppide märgistamise erinõuded</span></li><li class="x_x_MsoListParagraph"><span>Iseseisvad tööd gruppides ja tagasiside andmine. Küsimustele vastamine</span></li></ul><p><span><strong>Koolitajad:&nbsp;</strong></span></p><p><span><strong>Hellika Kallaste - &nbsp;</strong>Regionaal- ja Põllumajandusministeerium, toiduohutuse osakond</span></p><p><span><strong>Külli Johanson - </strong>Regionaal- ja Põllumajandusministeerium, toiduohutuse osakond</span></p><p><span><strong>Evelin Kivima - </strong>Regionaal- ja Põllumajandusministeerium, toiduohutuse osakond</span></p><p><span><strong>Infopäev on osalejatele TASUTA</strong></span></p><p><span>Infopäevale saad registreerida </span><a href="https://docs.google.com/forms/d/1J0PhI9DTPeFI55o0I_nEqvv9pz5brqXow1qOOE-0nIo/"><span>SIIN</span></a></p><p><strong>Link: </strong>https://www.olustvere.edu.ee/et/koolituste-kalender/metk-infopaev-toidu-margistamise-abc</p><p><strong>Hind: </strong>TASUTA</p>
STATUS:CONFIRMED
SEQUENCE:3
X-ALT-DESC;FMTTYPE=text/html:<p><strong>METK Infopäev Toidu märgistamise ABC</strong></p><p><strong>Infopäev toimub:</strong> 4.november 2025, Olustveres</p><p><strong>Infopäeva pikkus:</strong> 10:00 - 14:00</p><p><span style="color:black;font-size:11pt;" data-olk-copy-source="MessageBody"><strong>Sihtrühm ja eesmärk</strong>: Teavitada väikekäitlejaid ja alustavaid käitlejaid toidu märgistamise nõuetest, sh toidugruppidele kehtivatest erinõuetest. Väikekäitlejad, alustavad käitlejad.</span></p><p><strong>Teemad</strong>:&nbsp;</p><ul type="square"><li class="x_x_MsoListParagraph"><span>Toidu märgistamise nõuded</span></li><li class="x_x_MsoListParagraph"><span>Toitumis- ja tervisealased väited</span></li><li class="x_x_MsoListParagraph"><span>Toidu nimetused ja toidugruppide märgistamise erinõuded</span></li><li class="x_x_MsoListParagraph"><span>Iseseisvad tööd gruppides ja tagasiside andmine. Küsimustele vastamine</span></li></ul><p><span><strong>Koolitajad:&nbsp;</strong></span></p><p><span><strong>Hellika Kallaste - &nbsp;</strong>Regionaal- ja Põllumajandusministeerium, toiduohutuse osakond</span></p><p><span><strong>Külli Johanson - </strong>Regionaal- ja Põllumajandusministeerium, toiduohutuse osakond</span></p><p><span><strong>Evelin Kivima - </strong>Regionaal- ja Põllumajandusministeerium, toiduohutuse osakond</span></p><p><span><strong>Infopäev on osalejatele TASUTA</strong></span></p><p><span>Infopäevale saad registreerida </span><a href="https://docs.google.com/forms/d/1J0PhI9DTPeFI55o0I_nEqvv9pz5brqXow1qOOE-0nIo/"><span>SIIN</span></a></p><p><strong>Link: </strong>https://www.olustvere.edu.ee/et/koolituste-kalender/metk-infopaev-toidu-margistamise-abc</p><p><strong>Hind: </strong>TASUTA</p>
X-MICROSOFT-CDO-BUSYSTATUS:OOF
X-MICROSOFT-CDO-IMPORTANCE:1
X-MICROSOFT-DISALLOW-COUNTER:FALSE
X-MS-OLK-ALLOWEXTERNCHECK:TRUE
X-MS-OLK-CONFTYPE:0
X-MICROSOFT-CDO-ALLDAYEVENT:
X-MICROSOFT-MSNCALENDAR-ALLDAYEVENT:
END:VEVENT
END:VCALENDAR