BEGIN:VCALENDAR
PRODID:-//Microsoft Corporation//Outlook 12.0 MIMEDIR//EN
VERSION:2.0
CALSCALE:GREGORIAN
BEGIN:VEVENT
UID: d2cb821d-5055-4169-be53-b13c1fc694fd
SUMMARY:Tasuline koolitus: Finantsinvesteeringute kajastamine raamatupidamises
DTSTAMP:20260218T140000
DTSTART:20260218T140000
DTEND:20260218T160000
LOCATION:Veebis
DESCRIPTION: <p><strong>Tasuline koolitus: Finantsinvesteeringute kajastamine raamatupidamises</strong></p><p><strong>Koolituse pikkus:</strong> 2 tundi</p><p><strong>Koolitus toimub:</strong> 18.veebruaril 2026</p><p><strong>Koolituse läbinud õppija:</strong></p><ul><li><p style="background-color:white;line-height:97%;"><span style="line-height:97%;">Kajastab õigesti finantsinvesteeringuid raamatupidamises.&nbsp;</span></p></li><li><p style="background-color:white;line-height:97%;"><span style="line-height:97%;">Oskab valida õige arvestuspõhimõtte ja kajastada ümberhindlusest tulenevaid kasumeid/kahjumeid.</span></p></li></ul><p><strong>Koolitaja: </strong><span style="background-color:white;color:black;"><strong>Maire Otsus-Carpenter</strong> on lõpetanud Tartu Ülikooli rahanduse ja krediidi erialal, tegutsenud nii pearaamatupidajana kui&nbsp;audiitorina. Omab pikaajalist raamatupidamise ja finantsjuhtimise valdkonna koolitaja kogemust.&nbsp;On tegutsenud lepingulise lektorina Mainori Kõrgkoolis ja Tallinna Ülikoolis. Alates 2007. aastast tegutseb koolitusfirmas Addenda. Maire Otsus-Carpenter on vandeaudiitor ning kuulub Eesti Audiitorkogusse.</span></p><p>Koolituse täpsema õppekava leiad <a href="https://www.olustvere.edu.ee/sites/olustvere.edu.ee/files/2025-11/2026%20%C3%95PPEKAVA%20Finantsinvesteeringute%20kajastamine%20raamatupidamises.doc">SIIT</a></p><p><strong>Koolituse maksumus: 40 eurot</strong></p><p>Koolitusele saad kirja panna<a href="https://docs.google.com/forms/d/1S6BuTNjEHyctHnqiC4SL7JpzAYsCweQxl2_NrX8kky0/"> SIIN</a></p><p><strong>Link: </strong>https://www.olustvere.edu.ee/et/koolituste-kalender/tasuline-koolitus-finantsinvesteeringute-kajastamine-raamatupidamises</p><p><strong>Hind: </strong>40</p>
STATUS:CONFIRMED
SEQUENCE:3
X-ALT-DESC;FMTTYPE=text/html:<p><strong>Tasuline koolitus: Finantsinvesteeringute kajastamine raamatupidamises</strong></p><p><strong>Koolituse pikkus:</strong> 2 tundi</p><p><strong>Koolitus toimub:</strong> 18.veebruaril 2026</p><p><strong>Koolituse läbinud õppija:</strong></p><ul><li><p style="background-color:white;line-height:97%;"><span style="line-height:97%;">Kajastab õigesti finantsinvesteeringuid raamatupidamises.&nbsp;</span></p></li><li><p style="background-color:white;line-height:97%;"><span style="line-height:97%;">Oskab valida õige arvestuspõhimõtte ja kajastada ümberhindlusest tulenevaid kasumeid/kahjumeid.</span></p></li></ul><p><strong>Koolitaja: </strong><span style="background-color:white;color:black;"><strong>Maire Otsus-Carpenter</strong> on lõpetanud Tartu Ülikooli rahanduse ja krediidi erialal, tegutsenud nii pearaamatupidajana kui&nbsp;audiitorina. Omab pikaajalist raamatupidamise ja finantsjuhtimise valdkonna koolitaja kogemust.&nbsp;On tegutsenud lepingulise lektorina Mainori Kõrgkoolis ja Tallinna Ülikoolis. Alates 2007. aastast tegutseb koolitusfirmas Addenda. Maire Otsus-Carpenter on vandeaudiitor ning kuulub Eesti Audiitorkogusse.</span></p><p>Koolituse täpsema õppekava leiad <a href="https://www.olustvere.edu.ee/sites/olustvere.edu.ee/files/2025-11/2026%20%C3%95PPEKAVA%20Finantsinvesteeringute%20kajastamine%20raamatupidamises.doc">SIIT</a></p><p><strong>Koolituse maksumus: 40 eurot</strong></p><p>Koolitusele saad kirja panna<a href="https://docs.google.com/forms/d/1S6BuTNjEHyctHnqiC4SL7JpzAYsCweQxl2_NrX8kky0/"> SIIN</a></p><p><strong>Link: </strong>https://www.olustvere.edu.ee/et/koolituste-kalender/tasuline-koolitus-finantsinvesteeringute-kajastamine-raamatupidamises</p><p><strong>Hind: </strong>40</p>
X-MICROSOFT-CDO-BUSYSTATUS:OOF
X-MICROSOFT-CDO-IMPORTANCE:1
X-MICROSOFT-DISALLOW-COUNTER:FALSE
X-MS-OLK-ALLOWEXTERNCHECK:TRUE
X-MS-OLK-CONFTYPE:0
X-MICROSOFT-CDO-ALLDAYEVENT:
X-MICROSOFT-MSNCALENDAR-ALLDAYEVENT:
END:VEVENT
END:VCALENDAR