BEGIN:VCALENDAR
PRODID:-//Microsoft Corporation//Outlook 12.0 MIMEDIR//EN
VERSION:2.0
CALSCALE:GREGORIAN
BEGIN:VEVENT
UID: d33f1fcc-1d51-477f-a185-3ecd6b69e345
SUMMARY:Täienduskoolitus - Põllumajandusloomade heaolu- seakasvatus
DTSTAMP:20190830T090000
DTSTART:20190830T090000
DTEND:20190830T170000
LOCATION:Olustvere TMK õppehoone
DESCRIPTION: <p>	Koolitus toimub 30 august 2019.a. Olustvere Teenindus ja Maamajanduskoolis</p><p>	Infopäev toimub programmi "Teadmussiirde pikaajaline programm loomakasvatuse valdkonnas" raames ning on sihtrühmale tasuta.</p><h4>	Ajakava</h4><p>	09.00 - 09.15 - Kogunemine, registreerimine<br />	09.15 – 10.45 - Sigade tervishoidu ja heaolu tagavatest aspektidest söötmise valdkonnas sh bioohutus. R. Leming<br />	10.45 - 11.00&nbsp; - Paus<br />	11.00 - 12.30&nbsp; - Loeng jätkub<br />	12.30 - 13:15&nbsp; - Lõuna<br />	13.15 - 14.45&nbsp; - Loeng jätkub<br />	14.45 – 15.00 - Paus<br />	15.00 - 16.30 - Praktiline õpe. Söötmise korraldamine erinevates tootmisetappides tagades sigade tervishoid ja heaolu. G. Külm<br />	16.30 - 17.00 - Arutelud, koolituse lõpetamine.</p><h4>	Lektorid:</h4><p>	Ragnar Leming&nbsp; dotsent, dr (pm) Eesti Maaülikool<br />	Getlin Külm farmijuhataja/tootmisjuht Kupna Mõis OÜ</p><h4>	<a href="/sites/olustvere.edu.ee/files/2019-08-30_oppekava_pollumajandusloomade_heaolu_seakasvatus.pdf" style="box-sizing: border-box; margin: 0px; padding: 0px; border: 0px; font: inherit; vertical-align: baseline; text-decoration: none; color: rgb(0, 117, 0);" target="_blank">Koolituse õppekava</a></h4><h4>	<a href="/sites/olustvere.edu.ee/files/2019-08-30_taienduskoolitus_pollumajandusloomade_heaolu-_seakasvatus_ajakava.pdf" target="_blank">Koolituse info</a></h4><p>	&nbsp;</p><p>	Koolitusel vajalik eelregistreerimine kuni 26 august.</p><ul>	<li>		<a href="https://docs.google.com/forms/d/1WLV8UoZtx3wHVmbyKqIDkKxSkdRN2DFHlo6luGGTA0g/" style="box-sizing: border-box; margin: 0px; padding: 0px; border: 0px; font: inherit; vertical-align: baseline; text-decoration: none; color: rgb(0, 117, 0);" target="_blank">Registreerimine koolitusele.</a></li></ul><h4>	&nbsp;</h4><h4>	Koolitajad:</h4><p>	Vilma Tatar – Eesti Maaülikool, lektor</p><p>	Edgar Lepman – Olustvere TMK õppetööstuse juhataja, praktik, piimatoodete valmistaja</p><p>	&nbsp;</p><p>	Informatsioon koolituse kohta Marika Oeselg</p><p>	tel +372 513 6242, e-post marika.oeselg@olustvere.edu.ee</p><p>	&nbsp;</p><div class="pilt-class" style="-webkit-text-stroke-width:0px; background-color:#ffffff; border:0px; box-sizing:border-box; color:#4a4a4a; font-family:Rubik,sans-serif; font-size:medium; font-stretch:inherit; font-style:normal; font-variant-caps:normal; font-variant-east-asian:inherit; font-variant-ligatures:normal; font-variant-numeric:inherit; font-weight:100; letter-spacing:normal; line-height:inherit; margin-bottom:0px; margin-left:0px; margin-right:0px; margin-top:0px; orphans:2; padding:0px; text-align:start; text-decoration-color:initial; text-decoration-style:initial; text-indent:0px; text-transform:none; vertical-align:baseline; white-space:normal; widows:2; word-spacing:0px">	&nbsp;</div><div class="pilt-class" style="-webkit-text-stroke-width:0px; background-color:#ffffff; border:0px; box-sizing:border-box; color:#4a4a4a; font-family:Rubik,sans-serif; font-size:medium; font-stretch:inherit; font-style:normal; font-variant-caps:normal; font-variant-east-asian:inherit; font-variant-ligatures:normal; font-variant-numeric:inherit; font-weight:100; letter-spacing:normal; line-height:inherit; margin-bottom:0px; margin-left:0px; margin-right:0px; margin-top:0px; orphans:2; padding:0px; text-align:start; text-decoration-color:initial; text-decoration-style:initial; text-indent:0px; text-transform:none; vertical-align:baseline; white-space:normal; widows:2; word-spacing:0px">	&nbsp;</div><div class="pilt-class" style="-webkit-text-stroke-width:0px; background-color:#ffffff; border:0px; box-sizing:border-box; color:#4a4a4a; font-family:Rubik,sans-serif; font-size:medium; font-stretch:inherit; font-style:normal; font-variant-caps:normal; font-variant-east-asian:inherit; font-variant-ligatures:normal; font-variant-numeric:inherit; font-weight:100; letter-spacing:normal; line-height:inherit; margin-bottom:0px; margin-left:0px; margin-right:0px; margin-top:0px; orphans:2; padding:0px; text-align:start; text-decoration-color:initial; text-decoration-style:initial; text-indent:0px; text-transform:none; vertical-align:baseline; white-space:normal; widows:2; word-spacing:0px">	 </div><p><strong>Link: </strong>https://www.olustvere.edu.ee/et/sundmuste-kalender/taienduskoolitus-pollumajandusloomade-heaolu-seakasvatus</p><p><strong>Hind: </strong></p>
STATUS:CONFIRMED
SEQUENCE:3
X-ALT-DESC;FMTTYPE=text/html:<p>	Koolitus toimub 30 august 2019.a. Olustvere Teenindus ja Maamajanduskoolis</p><p>	Infopäev toimub programmi "Teadmussiirde pikaajaline programm loomakasvatuse valdkonnas" raames ning on sihtrühmale tasuta.</p><h4>	Ajakava</h4><p>	09.00 - 09.15 - Kogunemine, registreerimine<br />	09.15 – 10.45 - Sigade tervishoidu ja heaolu tagavatest aspektidest söötmise valdkonnas sh bioohutus. R. Leming<br />	10.45 - 11.00&nbsp; - Paus<br />	11.00 - 12.30&nbsp; - Loeng jätkub<br />	12.30 - 13:15&nbsp; - Lõuna<br />	13.15 - 14.45&nbsp; - Loeng jätkub<br />	14.45 – 15.00 - Paus<br />	15.00 - 16.30 - Praktiline õpe. Söötmise korraldamine erinevates tootmisetappides tagades sigade tervishoid ja heaolu. G. Külm<br />	16.30 - 17.00 - Arutelud, koolituse lõpetamine.</p><h4>	Lektorid:</h4><p>	Ragnar Leming&nbsp; dotsent, dr (pm) Eesti Maaülikool<br />	Getlin Külm farmijuhataja/tootmisjuht Kupna Mõis OÜ</p><h4>	<a href="/sites/olustvere.edu.ee/files/2019-08-30_oppekava_pollumajandusloomade_heaolu_seakasvatus.pdf" style="box-sizing: border-box; margin: 0px; padding: 0px; border: 0px; font: inherit; vertical-align: baseline; text-decoration: none; color: rgb(0, 117, 0);" target="_blank">Koolituse õppekava</a></h4><h4>	<a href="/sites/olustvere.edu.ee/files/2019-08-30_taienduskoolitus_pollumajandusloomade_heaolu-_seakasvatus_ajakava.pdf" target="_blank">Koolituse info</a></h4><p>	&nbsp;</p><p>	Koolitusel vajalik eelregistreerimine kuni 26 august.</p><ul>	<li>		<a href="https://docs.google.com/forms/d/1WLV8UoZtx3wHVmbyKqIDkKxSkdRN2DFHlo6luGGTA0g/" style="box-sizing: border-box; margin: 0px; padding: 0px; border: 0px; font: inherit; vertical-align: baseline; text-decoration: none; color: rgb(0, 117, 0);" target="_blank">Registreerimine koolitusele.</a></li></ul><h4>	&nbsp;</h4><h4>	Koolitajad:</h4><p>	Vilma Tatar – Eesti Maaülikool, lektor</p><p>	Edgar Lepman – Olustvere TMK õppetööstuse juhataja, praktik, piimatoodete valmistaja</p><p>	&nbsp;</p><p>	Informatsioon koolituse kohta Marika Oeselg</p><p>	tel +372 513 6242, e-post marika.oeselg@olustvere.edu.ee</p><p>	&nbsp;</p><div class="pilt-class" style="-webkit-text-stroke-width:0px; background-color:#ffffff; border:0px; box-sizing:border-box; color:#4a4a4a; font-family:Rubik,sans-serif; font-size:medium; font-stretch:inherit; font-style:normal; font-variant-caps:normal; font-variant-east-asian:inherit; font-variant-ligatures:normal; font-variant-numeric:inherit; font-weight:100; letter-spacing:normal; line-height:inherit; margin-bottom:0px; margin-left:0px; margin-right:0px; margin-top:0px; orphans:2; padding:0px; text-align:start; text-decoration-color:initial; text-decoration-style:initial; text-indent:0px; text-transform:none; vertical-align:baseline; white-space:normal; widows:2; word-spacing:0px">	&nbsp;</div><div class="pilt-class" style="-webkit-text-stroke-width:0px; background-color:#ffffff; border:0px; box-sizing:border-box; color:#4a4a4a; font-family:Rubik,sans-serif; font-size:medium; font-stretch:inherit; font-style:normal; font-variant-caps:normal; font-variant-east-asian:inherit; font-variant-ligatures:normal; font-variant-numeric:inherit; font-weight:100; letter-spacing:normal; line-height:inherit; margin-bottom:0px; margin-left:0px; margin-right:0px; margin-top:0px; orphans:2; padding:0px; text-align:start; text-decoration-color:initial; text-decoration-style:initial; text-indent:0px; text-transform:none; vertical-align:baseline; white-space:normal; widows:2; word-spacing:0px">	&nbsp;</div><div class="pilt-class" style="-webkit-text-stroke-width:0px; background-color:#ffffff; border:0px; box-sizing:border-box; color:#4a4a4a; font-family:Rubik,sans-serif; font-size:medium; font-stretch:inherit; font-style:normal; font-variant-caps:normal; font-variant-east-asian:inherit; font-variant-ligatures:normal; font-variant-numeric:inherit; font-weight:100; letter-spacing:normal; line-height:inherit; margin-bottom:0px; margin-left:0px; margin-right:0px; margin-top:0px; orphans:2; padding:0px; text-align:start; text-decoration-color:initial; text-decoration-style:initial; text-indent:0px; text-transform:none; vertical-align:baseline; white-space:normal; widows:2; word-spacing:0px">	 </div><p><strong>Link: </strong>https://www.olustvere.edu.ee/et/sundmuste-kalender/taienduskoolitus-pollumajandusloomade-heaolu-seakasvatus</p><p><strong>Hind: </strong></p>
X-MICROSOFT-CDO-BUSYSTATUS:OOF
X-MICROSOFT-CDO-IMPORTANCE:1
X-MICROSOFT-DISALLOW-COUNTER:FALSE
X-MS-OLK-ALLOWEXTERNCHECK:TRUE
X-MS-OLK-CONFTYPE:0
X-MICROSOFT-CDO-ALLDAYEVENT:
X-MICROSOFT-MSNCALENDAR-ALLDAYEVENT:
END:VEVENT
END:VCALENDAR