BEGIN:VCALENDAR
PRODID:-//Microsoft Corporation//Outlook 12.0 MIMEDIR//EN
VERSION:2.0
CALSCALE:GREGORIAN
BEGIN:VEVENT
UID: 7b894d54-fd37-4a06-9e78-52b7434de314
SUMMARY:Tasuline koolitus Digiturvalisus
DTSTAMP:20200423T000000
DTSTART:20200423T000000
DTEND:20200423T164500
LOCATION:
DESCRIPTION: <p>	<strong>Tasuline koolitus: Digiturvalisus</strong></p><p>	<strong>Koolituse pikkus:</strong> 5 tundi</p><p>	<strong>Koolitus toimub</strong>: 21 ja 22.mai 2020</p><p>	<strong>Koolitus toimub internetipõhiselt distantsõppena!</strong></p><p>	<strong>Koolituse läbinud õppija:</strong></p><ol>	<li>		Oskab tähelepanu pöörata digiturvalisusele</li>	<li>		Oskab digimaalimas ohte ennetada</li>	<li>		Teab lihtsamaid meetodeid digiohtude vältimiseks</li></ol><p>	Koolituse täpsema õppekava leiad<a href="/sites/olustvere.edu.ee/files/digiturvalisus_oppekava.docx"> SIIT</a></p><p>	Koolitusele saad registreerida <a href="https://docs.google.com/forms/d/1EfFFQ9gwDdLfyqoRYABM_BbqVzLAgFEedjaKJmIjBk8/">SIIN</a></p><p>	<strong>Koolituse hind 25 eurot</strong></p><p><strong>Link: </strong>https://www.olustvere.edu.ee/et/sundmuste-kalender/tasuline-koolitus-digiturvalisus</p><p><strong>Hind: </strong>45</p>
STATUS:CONFIRMED
SEQUENCE:3
X-ALT-DESC;FMTTYPE=text/html:<p>	<strong>Tasuline koolitus: Digiturvalisus</strong></p><p>	<strong>Koolituse pikkus:</strong> 5 tundi</p><p>	<strong>Koolitus toimub</strong>: 21 ja 22.mai 2020</p><p>	<strong>Koolitus toimub internetipõhiselt distantsõppena!</strong></p><p>	<strong>Koolituse läbinud õppija:</strong></p><ol>	<li>		Oskab tähelepanu pöörata digiturvalisusele</li>	<li>		Oskab digimaalimas ohte ennetada</li>	<li>		Teab lihtsamaid meetodeid digiohtude vältimiseks</li></ol><p>	Koolituse täpsema õppekava leiad<a href="/sites/olustvere.edu.ee/files/digiturvalisus_oppekava.docx"> SIIT</a></p><p>	Koolitusele saad registreerida <a href="https://docs.google.com/forms/d/1EfFFQ9gwDdLfyqoRYABM_BbqVzLAgFEedjaKJmIjBk8/">SIIN</a></p><p>	<strong>Koolituse hind 25 eurot</strong></p><p><strong>Link: </strong>https://www.olustvere.edu.ee/et/sundmuste-kalender/tasuline-koolitus-digiturvalisus</p><p><strong>Hind: </strong>45</p>
X-MICROSOFT-CDO-BUSYSTATUS:OOF
X-MICROSOFT-CDO-IMPORTANCE:1
X-MICROSOFT-DISALLOW-COUNTER:FALSE
X-MS-OLK-ALLOWEXTERNCHECK:TRUE
X-MS-OLK-CONFTYPE:0
X-MICROSOFT-CDO-ALLDAYEVENT:
X-MICROSOFT-MSNCALENDAR-ALLDAYEVENT:
END:VEVENT
END:VCALENDAR