BEGIN:VCALENDAR
PRODID:-//Microsoft Corporation//Outlook 12.0 MIMEDIR//EN
VERSION:2.0
CALSCALE:GREGORIAN
BEGIN:VEVENT
UID: e1eb28ff-4404-4e08-a314-774e0f0a1352
SUMMARY:PRIA PIP loomakasvatusprogrammi koolitus Lambaliha esmane käitlemine
DTSTAMP:20210129
DTSTART:20210129
DTEND:20210130
DURATION:P1D
LOCATION:Olustvere TMK õppetööstus
DESCRIPTION: <p>	<strong>PRIA PIP loomakasvatusprogrammi koolitus Lambaliha esmane käitlemine</strong></p><p>	<strong>Koolituse pikkus:</strong> 8 tundi</p><p>	<strong>Koolitus toimub:</strong> 29.jaanuar 2021</p><p>	<strong>Koolituse läbinud õppija:</strong></p><ul>	<li>		Loob seoseid lambaste algtöötlemise ja liha kvaliteedi vahel</li>	<li>		Oskab vältida toidu ristsaastumist</li>	<li>		Tunneb lambarümba kontitustamise skeeme</li>	<li>		Oskab leida informatsiooni lambaliha nõuetekohase käitlemise kohta</li></ul><p>	Koolituse täpsema õppekava leiad <a href="/sites/olustvere.edu.ee/files/oppekava_lambaliha_esmane_kaitlemine.docx">SIIT</a></p><p>	Koolitusele saad registreerida <a href="https://docs.google.com/forms/d/1pIjM6zxn-Bu13dQiYeyOUB4CFXdb-demgfwAhch-zHk/">SIIN</a></p><p>	Koolituse <a href="/sites/olustvere.edu.ee/files/lambaliha_esmane_kaitlemine.docx">AJAKAVA</a></p><div class="pilt-class">	  Koolitus viiakse läbi MAK 2014-2020 meetme „Teadmussiirde pikaajaline programm loomakasvatuse tegevusvaldkonnas II “ raames, rahastamisallikas: riigieelarve, Euroopa Maaelu Põllumajandusfond (EAFRD) ning see on osalejatele <strong>TASUTA</strong></div><p><strong>Link: </strong>https://www.olustvere.edu.ee/et/sundmuste-kalender/pria-pip-loomakasvatusprogrammi-koolitus-lambaliha-esmane-kaitlemine-0</p><p><strong>Hind: </strong></p>
STATUS:CONFIRMED
SEQUENCE:3
X-ALT-DESC;FMTTYPE=text/html:<p>	<strong>PRIA PIP loomakasvatusprogrammi koolitus Lambaliha esmane käitlemine</strong></p><p>	<strong>Koolituse pikkus:</strong> 8 tundi</p><p>	<strong>Koolitus toimub:</strong> 29.jaanuar 2021</p><p>	<strong>Koolituse läbinud õppija:</strong></p><ul>	<li>		Loob seoseid lambaste algtöötlemise ja liha kvaliteedi vahel</li>	<li>		Oskab vältida toidu ristsaastumist</li>	<li>		Tunneb lambarümba kontitustamise skeeme</li>	<li>		Oskab leida informatsiooni lambaliha nõuetekohase käitlemise kohta</li></ul><p>	Koolituse täpsema õppekava leiad <a href="/sites/olustvere.edu.ee/files/oppekava_lambaliha_esmane_kaitlemine.docx">SIIT</a></p><p>	Koolitusele saad registreerida <a href="https://docs.google.com/forms/d/1pIjM6zxn-Bu13dQiYeyOUB4CFXdb-demgfwAhch-zHk/">SIIN</a></p><p>	Koolituse <a href="/sites/olustvere.edu.ee/files/lambaliha_esmane_kaitlemine.docx">AJAKAVA</a></p><div class="pilt-class">	  Koolitus viiakse läbi MAK 2014-2020 meetme „Teadmussiirde pikaajaline programm loomakasvatuse tegevusvaldkonnas II “ raames, rahastamisallikas: riigieelarve, Euroopa Maaelu Põllumajandusfond (EAFRD) ning see on osalejatele <strong>TASUTA</strong></div><p><strong>Link: </strong>https://www.olustvere.edu.ee/et/sundmuste-kalender/pria-pip-loomakasvatusprogrammi-koolitus-lambaliha-esmane-kaitlemine-0</p><p><strong>Hind: </strong></p>
X-MICROSOFT-CDO-BUSYSTATUS:OOF
X-MICROSOFT-CDO-IMPORTANCE:1
X-MICROSOFT-DISALLOW-COUNTER:FALSE
X-MS-OLK-ALLOWEXTERNCHECK:TRUE
X-MS-OLK-CONFTYPE:0
X-MICROSOFT-CDO-ALLDAYEVENT:1
X-MICROSOFT-MSNCALENDAR-ALLDAYEVENT:1
END:VEVENT
END:VCALENDAR