BEGIN:VCALENDAR
PRODID:-//Microsoft Corporation//Outlook 12.0 MIMEDIR//EN
VERSION:2.0
CALSCALE:GREGORIAN
BEGIN:VEVENT
UID: 811b582f-a3dc-4fc4-801f-ee87da41c5c7
SUMMARY:RKT koolitus Digipädevused bürootöös
DTSTAMP:20210507
DTSTART:20210507
DTEND:20210605
DURATION:P29D
LOCATION:Olustvere TMK õppehoone
DESCRIPTION: <p>	<strong>Riikliku koolitustellimuse koolitus Digipädevused bürootöös</strong></p><p>	<strong>Koolituse pikkus: </strong>40 tundi</p><p>	<strong>Koolituse kuupäevad: </strong>7.mai, 13.mai, 14.mai, 3.juuni, 4.juuni 2021</p><p>	<strong>Koolituse läbinud õppija:</strong></p><ul>	<li>		Koostab dokumendimalle;</li>	<li>		Loob korrektseid ametidokumente arvestades dokumendiliigile esitatavaid vorminõudeid ja head tava;</li>	<li>		Koostab korrektseid tabeleid, sh erinevates keskkondades, analüüsib tabeleid, leiab mahukatest tabelitest kiiresti vajalikku infot;</li>	<li>		Kasub MS Outlooki ja Google mail-i süsteeme, optimeerib meilivahetust ja tööülesandeid;</li>	<li>		Planeerib enda ja kolleegide aja- ja ruumideressursse;</li>	<li>		Kasutab keskkondi GoogleDrive, Onedrive dokumentide haldamiseks ja jagamiseks, koostab Google Forms-/Office Forms-i abil küsitlus- ja tagasiside ankeete.</li></ul><p>	<strong>Koolitajad:</strong></p><p>	<strong>Miljan Talvet</strong></p><p>	Haridus: Tallinna Pedagoogiline Instituut, 1988</p><p>	Alates 2006 Olustvere Teenindus- ja Maamajanduskooli asjaajamise ja dokumendihalduse õpetaja.</p><p>	Alates 2018 Eesti Juhi Abi Ühingu kutsekomisjoni liige.</p><p>	Töötas 2001-2006&nbsp; Eesti Post regiooni personalijuhina.</p><p>	<strong>Alar Ani</strong></p><p>	EUCIP Core level Certificate 2011;</p><p>	CCNA Discovery: Networking for Home and small Businesses 2012;</p><p>	Kutsetunnistus IT- spetsialist, tase 4&nbsp; (BCS koolitus) &nbsp;2013;</p><p>	Kutsepedagoogika &nbsp;(360 h ) täienduskoolitus Tartu Ülikoolis 2018-2019;</p><p>	Alates 2018 haridustehnoloog-arvutiõpetaja Olustvere Teenindus- ja Maamajanduskoolis.</p><p>	Töötas 2013-2018 Klick Eesti AS &nbsp;müügieksperdina</p><p>	Koolituse täpsema õppekava leiad<a href="/sites/olustvere.edu.ee/files/digipadevused_burootoos_0.docx"> SIIT</a></p><p>	Koolituse ajakava leiad<a href="/sites/olustvere.edu.ee/files/digipadevused_burootoos_ajakava.docx"> SIIT</a></p><p>	Koolitusele saad registreerida <a href="https://docs.google.com/forms/d/1V4GHq6QU_cJmS1nm8ZfYrEfac5purPDMSj-MC0sgEv0/">SIIN</a></p><div class="pilt-class">	  Koolitust toetab EL Sotsiaalfond ning Haridus- ja Teadusminsiteerium ning see on osalejatele <strong>TASUTA</strong></div><p><strong>Link: </strong>https://www.olustvere.edu.ee/et/sundmuste-kalender/rkt-koolitus-digipadevused-burootoos</p><p><strong>Hind: </strong></p>
STATUS:CONFIRMED
SEQUENCE:3
X-ALT-DESC;FMTTYPE=text/html:<p>	<strong>Riikliku koolitustellimuse koolitus Digipädevused bürootöös</strong></p><p>	<strong>Koolituse pikkus: </strong>40 tundi</p><p>	<strong>Koolituse kuupäevad: </strong>7.mai, 13.mai, 14.mai, 3.juuni, 4.juuni 2021</p><p>	<strong>Koolituse läbinud õppija:</strong></p><ul>	<li>		Koostab dokumendimalle;</li>	<li>		Loob korrektseid ametidokumente arvestades dokumendiliigile esitatavaid vorminõudeid ja head tava;</li>	<li>		Koostab korrektseid tabeleid, sh erinevates keskkondades, analüüsib tabeleid, leiab mahukatest tabelitest kiiresti vajalikku infot;</li>	<li>		Kasub MS Outlooki ja Google mail-i süsteeme, optimeerib meilivahetust ja tööülesandeid;</li>	<li>		Planeerib enda ja kolleegide aja- ja ruumideressursse;</li>	<li>		Kasutab keskkondi GoogleDrive, Onedrive dokumentide haldamiseks ja jagamiseks, koostab Google Forms-/Office Forms-i abil küsitlus- ja tagasiside ankeete.</li></ul><p>	<strong>Koolitajad:</strong></p><p>	<strong>Miljan Talvet</strong></p><p>	Haridus: Tallinna Pedagoogiline Instituut, 1988</p><p>	Alates 2006 Olustvere Teenindus- ja Maamajanduskooli asjaajamise ja dokumendihalduse õpetaja.</p><p>	Alates 2018 Eesti Juhi Abi Ühingu kutsekomisjoni liige.</p><p>	Töötas 2001-2006&nbsp; Eesti Post regiooni personalijuhina.</p><p>	<strong>Alar Ani</strong></p><p>	EUCIP Core level Certificate 2011;</p><p>	CCNA Discovery: Networking for Home and small Businesses 2012;</p><p>	Kutsetunnistus IT- spetsialist, tase 4&nbsp; (BCS koolitus) &nbsp;2013;</p><p>	Kutsepedagoogika &nbsp;(360 h ) täienduskoolitus Tartu Ülikoolis 2018-2019;</p><p>	Alates 2018 haridustehnoloog-arvutiõpetaja Olustvere Teenindus- ja Maamajanduskoolis.</p><p>	Töötas 2013-2018 Klick Eesti AS &nbsp;müügieksperdina</p><p>	Koolituse täpsema õppekava leiad<a href="/sites/olustvere.edu.ee/files/digipadevused_burootoos_0.docx"> SIIT</a></p><p>	Koolituse ajakava leiad<a href="/sites/olustvere.edu.ee/files/digipadevused_burootoos_ajakava.docx"> SIIT</a></p><p>	Koolitusele saad registreerida <a href="https://docs.google.com/forms/d/1V4GHq6QU_cJmS1nm8ZfYrEfac5purPDMSj-MC0sgEv0/">SIIN</a></p><div class="pilt-class">	  Koolitust toetab EL Sotsiaalfond ning Haridus- ja Teadusminsiteerium ning see on osalejatele <strong>TASUTA</strong></div><p><strong>Link: </strong>https://www.olustvere.edu.ee/et/sundmuste-kalender/rkt-koolitus-digipadevused-burootoos</p><p><strong>Hind: </strong></p>
X-MICROSOFT-CDO-BUSYSTATUS:OOF
X-MICROSOFT-CDO-IMPORTANCE:1
X-MICROSOFT-DISALLOW-COUNTER:FALSE
X-MS-OLK-ALLOWEXTERNCHECK:TRUE
X-MS-OLK-CONFTYPE:0
X-MICROSOFT-CDO-ALLDAYEVENT:1
X-MICROSOFT-MSNCALENDAR-ALLDAYEVENT:1
END:VEVENT
END:VCALENDAR