BEGIN:VCALENDAR
PRODID:-//Microsoft Corporation//Outlook 12.0 MIMEDIR//EN
VERSION:2.0
CALSCALE:GREGORIAN
BEGIN:VEVENT
UID: d17b1a5e-0db3-4e68-abae-0e0283777883
SUMMARY:PRIA PIP loomakasvatusprogrammi koolitus Põllumajandusloomade heaolu - lihaveis
DTSTAMP:20210514T090000
DTSTART:20210514T090000
DTEND:20210514T170000
LOCATION:
DESCRIPTION: <p>	<strong>PRIA PIP loomakasvatusprogrammi koolitus Põllumajandusloomade heaolu - lihaveis</strong></p><p>	<strong>Koolituse pikkus:</strong> 8 õppetundi</p><p>	<strong>Koolitus toimub: </strong>14.mai 2021</p><p>	<strong>Koolituse läbinud õppija:</strong></p><ul>	<li>		Mõistab kohustuslikke majandamisnõudeid loomade pidamisel sise-ja välitingimustel, rohumaade majandamisel, karjatamisel</li>	<li>		Tagab sobivad pidamistingimused lähtuvalt veiste vanusest ja tootmissuunast.</li>	<li>		Grupeerib ja/või paigutab veised ümber minimaalse stressiga ( kohtlemine, käitlemine, ajamine )</li>	<li>		Arvestab veiste karjatamisel loomarühma, rohumaade seisundit, asukohta.</li></ul><p>	<strong>Koolitaja:</strong> <strong>Targo Pikkmets</strong> -&nbsp; veisekasvatuskonsulent, Talu ja Tulu OÜ juhatuse liige / lihaveisekasvataja, Eesti Lihaveisekasvatajate Seltsi juhatuse liige</p><p>	Koolituse täpsema õppekava leiad <a href="/sites/olustvere.edu.ee/files/oppekava_lihavesekasvatus_2021.doc">SIIT</a></p><p>	Koolituse ajakava leiad <a href="/sites/olustvere.edu.ee/files/ajakava_14.mai_.docx">SIIT</a></p><p>	Koolitusele saad registreerida <a href="https://docs.google.com/forms/d/1fYehGWOaeaZUCg3cUC0XZ5Bk-ZMHf6mSJgAp2GUsS0c/">SIIN</a></p><div class="pilt-class">	  Koolitus toimub programmi "Teadmussiirde pikaajaline programm loomakasvatuse valdkonnas" raames ning on sihtrühmale TASUTA</div><p><strong>Link: </strong>https://www.olustvere.edu.ee/et/sundmuste-kalender/pria-pip-loomakasvatusprogrammi-koolitus-pollumajandusloomade-heaolu-lihaveis</p><p><strong>Hind: </strong></p>
STATUS:CONFIRMED
SEQUENCE:3
X-ALT-DESC;FMTTYPE=text/html:<p>	<strong>PRIA PIP loomakasvatusprogrammi koolitus Põllumajandusloomade heaolu - lihaveis</strong></p><p>	<strong>Koolituse pikkus:</strong> 8 õppetundi</p><p>	<strong>Koolitus toimub: </strong>14.mai 2021</p><p>	<strong>Koolituse läbinud õppija:</strong></p><ul>	<li>		Mõistab kohustuslikke majandamisnõudeid loomade pidamisel sise-ja välitingimustel, rohumaade majandamisel, karjatamisel</li>	<li>		Tagab sobivad pidamistingimused lähtuvalt veiste vanusest ja tootmissuunast.</li>	<li>		Grupeerib ja/või paigutab veised ümber minimaalse stressiga ( kohtlemine, käitlemine, ajamine )</li>	<li>		Arvestab veiste karjatamisel loomarühma, rohumaade seisundit, asukohta.</li></ul><p>	<strong>Koolitaja:</strong> <strong>Targo Pikkmets</strong> -&nbsp; veisekasvatuskonsulent, Talu ja Tulu OÜ juhatuse liige / lihaveisekasvataja, Eesti Lihaveisekasvatajate Seltsi juhatuse liige</p><p>	Koolituse täpsema õppekava leiad <a href="/sites/olustvere.edu.ee/files/oppekava_lihavesekasvatus_2021.doc">SIIT</a></p><p>	Koolituse ajakava leiad <a href="/sites/olustvere.edu.ee/files/ajakava_14.mai_.docx">SIIT</a></p><p>	Koolitusele saad registreerida <a href="https://docs.google.com/forms/d/1fYehGWOaeaZUCg3cUC0XZ5Bk-ZMHf6mSJgAp2GUsS0c/">SIIN</a></p><div class="pilt-class">	  Koolitus toimub programmi "Teadmussiirde pikaajaline programm loomakasvatuse valdkonnas" raames ning on sihtrühmale TASUTA</div><p><strong>Link: </strong>https://www.olustvere.edu.ee/et/sundmuste-kalender/pria-pip-loomakasvatusprogrammi-koolitus-pollumajandusloomade-heaolu-lihaveis</p><p><strong>Hind: </strong></p>
X-MICROSOFT-CDO-BUSYSTATUS:OOF
X-MICROSOFT-CDO-IMPORTANCE:1
X-MICROSOFT-DISALLOW-COUNTER:FALSE
X-MS-OLK-ALLOWEXTERNCHECK:TRUE
X-MS-OLK-CONFTYPE:0
X-MICROSOFT-CDO-ALLDAYEVENT:
X-MICROSOFT-MSNCALENDAR-ALLDAYEVENT:
END:VEVENT
END:VCALENDAR