BEGIN:VCALENDAR
PRODID:-//Microsoft Corporation//Outlook 12.0 MIMEDIR//EN
VERSION:2.0
CALSCALE:GREGORIAN
BEGIN:VEVENT
UID: b0b9611c-dab3-4154-8bd8-0737f917feaf
SUMMARY:PRIA meetme 1.1 koolitus Fermenteeritud piimatoodete omadused
DTSTAMP:20210531
DTSTART:20210531
DTEND:20210603
DURATION:P3D
LOCATION:Olustvere TMK õppetööstus
DESCRIPTION: <p>	<strong>PRIA meetme 1.1 koolitus Fermenteeritud piimatoodete omadused</strong></p><p>	<strong>Koolituse pikkus:</strong> 24 õppetundi</p><p>	<strong>Koolitus toimub:</strong> 31.mai, 1.juuni ja 2.juuni 2021</p><p>	<strong>Koolituse läbinud õppija:</strong></p><ul>	<li>		Valmistab fermenteeritud piimatooteid jälgides tootmis ja hügieeninõuedeid</li></ul><p>	<strong>Koolitajad: </strong></p><p>	<strong>Vilma Tatar - </strong>Eesti Maaülikool</p><p>	<strong>Katrin Laikoja - </strong>Eesti Maaülikool</p><p>	<strong>Edgar Lepman - </strong>Olustvere Teenindus- ja Maamajanduskool</p><p>	Koolituse täpsema õppekava leiad <a href="/sites/olustvere.edu.ee/files/fermenteeritud_piimatooted_2021_pria_0.doc">SIIT</a></p><p>	Koolituse täpsema ajakava leiad <a href="/sites/olustvere.edu.ee/files/pria_ajakava_fermenteeritud_piimatoodete_valmistamine_2021.docx">SIIT</a></p><p>	Koolitusele saad registreerida <a href="https://docs.google.com/forms/d/1Is_FuF7h9c5Bw27GXwsuVtilEIqjj63CuEmdTzOf-DU/">SIIN</a></p><div class="pilt-class">	    Koolitust toetab PRIA meede 1.1 ning see on osalejatele TASUTA</div><p>	&nbsp;</p><p><strong>Link: </strong>https://www.olustvere.edu.ee/et/sundmuste-kalender/pria-meetme-11-koolitus-fermenteeritud-piimatoodete-omadused</p><p><strong>Hind: </strong></p>
STATUS:CONFIRMED
SEQUENCE:3
X-ALT-DESC;FMTTYPE=text/html:<p>	<strong>PRIA meetme 1.1 koolitus Fermenteeritud piimatoodete omadused</strong></p><p>	<strong>Koolituse pikkus:</strong> 24 õppetundi</p><p>	<strong>Koolitus toimub:</strong> 31.mai, 1.juuni ja 2.juuni 2021</p><p>	<strong>Koolituse läbinud õppija:</strong></p><ul>	<li>		Valmistab fermenteeritud piimatooteid jälgides tootmis ja hügieeninõuedeid</li></ul><p>	<strong>Koolitajad: </strong></p><p>	<strong>Vilma Tatar - </strong>Eesti Maaülikool</p><p>	<strong>Katrin Laikoja - </strong>Eesti Maaülikool</p><p>	<strong>Edgar Lepman - </strong>Olustvere Teenindus- ja Maamajanduskool</p><p>	Koolituse täpsema õppekava leiad <a href="/sites/olustvere.edu.ee/files/fermenteeritud_piimatooted_2021_pria_0.doc">SIIT</a></p><p>	Koolituse täpsema ajakava leiad <a href="/sites/olustvere.edu.ee/files/pria_ajakava_fermenteeritud_piimatoodete_valmistamine_2021.docx">SIIT</a></p><p>	Koolitusele saad registreerida <a href="https://docs.google.com/forms/d/1Is_FuF7h9c5Bw27GXwsuVtilEIqjj63CuEmdTzOf-DU/">SIIN</a></p><div class="pilt-class">	    Koolitust toetab PRIA meede 1.1 ning see on osalejatele TASUTA</div><p>	&nbsp;</p><p><strong>Link: </strong>https://www.olustvere.edu.ee/et/sundmuste-kalender/pria-meetme-11-koolitus-fermenteeritud-piimatoodete-omadused</p><p><strong>Hind: </strong></p>
X-MICROSOFT-CDO-BUSYSTATUS:OOF
X-MICROSOFT-CDO-IMPORTANCE:1
X-MICROSOFT-DISALLOW-COUNTER:FALSE
X-MS-OLK-ALLOWEXTERNCHECK:TRUE
X-MS-OLK-CONFTYPE:0
X-MICROSOFT-CDO-ALLDAYEVENT:1
X-MICROSOFT-MSNCALENDAR-ALLDAYEVENT:1
END:VEVENT
END:VCALENDAR