BEGIN:VCALENDAR
PRODID:-//Microsoft Corporation//Outlook 12.0 MIMEDIR//EN
VERSION:2.0
CALSCALE:GREGORIAN
BEGIN:VEVENT
UID: 89812933-a916-4b1f-9882-0bdb7acbf95c
SUMMARY:PRIA PIP loomakasvatusprogrammi koolitus Põllumajandusloomade heaolu - piimaveised
DTSTAMP:20210708
DTSTART:20210708
DTEND:20210709
DURATION:P1D
LOCATION:
DESCRIPTION: <p>	<strong>PRIA PIP loomakasvatusprogrammi koolitus Põllumajandusloomade heaolu - piimaveised</strong></p><p>	<strong>Koolituse pikkus: </strong>8 tundi</p><p>	<strong>Koolitus toimub:</strong> 8.juulil 2021</p><p>	<strong>Koolituse läbinud õppija:</strong></p><ul>	<li>		Tagab sobivad pidamistingimused lüpsilehmadele ( piisav allapanu ja puhkealade puhastamine), regulaarne sõnnikueemaldus, käiguradade ja söödaaladele puhtus</li>	<li>		Tuvastab ja hindab riskikohad ruumis mis põhjustavad terviseprobleeme</li>	<li>		Puhastab loomad, tagab looma naha- ja udarapuhtuse</li>	<li>		Mõistab pidamistingimustest, keskkonnast &nbsp;tulenevaid probleeme mis mõjutavad piimatoodangut ja – kvaliteeti.</li></ul><p>	<strong>Koolitajad:</strong></p><p>	<strong>Piret Kalmus,&nbsp;</strong> produktiivloomade sisehaigused, dotsent Eesti Maaülikool.</p><p>	<strong>Marika Oeselg,&nbsp; </strong>veisekasvatusnõustaja Maaelu Edendamise Sihtasutus</p><p>	Koolituse tõpsema õppekava leiad <a href="/sites/olustvere.edu.ee/files/pollumajandusloomade_heaolu_piimaveised.doc">SIIT</a></p><p>	Koolituse ajakava leiad <a href="/sites/olustvere.edu.ee/files/ajakava_piimaveised_8_juuli.docx">SIIT</a></p><p>	Koolitusele saad registreerida <a href="https://docs.google.com/forms/d/1aTl3ZMFHl_bn281lAx2rRCOw-14kwe9LWO2hT9JaC1w/">SIIN</a></p><div class="pilt-class">	  Koolitus toimub programmi "Teadmussiirde pikaajaline programm loomakasvatuse valdkonnas" raames ning on sihtrühmale TASUTA</div><p>	&nbsp;</p><p><strong>Link: </strong>https://www.olustvere.edu.ee/et/sundmuste-kalender/pria-pip-loomakasvatusprogrammi-koolitus-pollumajandusloomade-heaolu-piimaveised</p><p><strong>Hind: </strong></p>
STATUS:CONFIRMED
SEQUENCE:3
X-ALT-DESC;FMTTYPE=text/html:<p>	<strong>PRIA PIP loomakasvatusprogrammi koolitus Põllumajandusloomade heaolu - piimaveised</strong></p><p>	<strong>Koolituse pikkus: </strong>8 tundi</p><p>	<strong>Koolitus toimub:</strong> 8.juulil 2021</p><p>	<strong>Koolituse läbinud õppija:</strong></p><ul>	<li>		Tagab sobivad pidamistingimused lüpsilehmadele ( piisav allapanu ja puhkealade puhastamine), regulaarne sõnnikueemaldus, käiguradade ja söödaaladele puhtus</li>	<li>		Tuvastab ja hindab riskikohad ruumis mis põhjustavad terviseprobleeme</li>	<li>		Puhastab loomad, tagab looma naha- ja udarapuhtuse</li>	<li>		Mõistab pidamistingimustest, keskkonnast &nbsp;tulenevaid probleeme mis mõjutavad piimatoodangut ja – kvaliteeti.</li></ul><p>	<strong>Koolitajad:</strong></p><p>	<strong>Piret Kalmus,&nbsp;</strong> produktiivloomade sisehaigused, dotsent Eesti Maaülikool.</p><p>	<strong>Marika Oeselg,&nbsp; </strong>veisekasvatusnõustaja Maaelu Edendamise Sihtasutus</p><p>	Koolituse tõpsema õppekava leiad <a href="/sites/olustvere.edu.ee/files/pollumajandusloomade_heaolu_piimaveised.doc">SIIT</a></p><p>	Koolituse ajakava leiad <a href="/sites/olustvere.edu.ee/files/ajakava_piimaveised_8_juuli.docx">SIIT</a></p><p>	Koolitusele saad registreerida <a href="https://docs.google.com/forms/d/1aTl3ZMFHl_bn281lAx2rRCOw-14kwe9LWO2hT9JaC1w/">SIIN</a></p><div class="pilt-class">	  Koolitus toimub programmi "Teadmussiirde pikaajaline programm loomakasvatuse valdkonnas" raames ning on sihtrühmale TASUTA</div><p>	&nbsp;</p><p><strong>Link: </strong>https://www.olustvere.edu.ee/et/sundmuste-kalender/pria-pip-loomakasvatusprogrammi-koolitus-pollumajandusloomade-heaolu-piimaveised</p><p><strong>Hind: </strong></p>
X-MICROSOFT-CDO-BUSYSTATUS:OOF
X-MICROSOFT-CDO-IMPORTANCE:1
X-MICROSOFT-DISALLOW-COUNTER:FALSE
X-MS-OLK-ALLOWEXTERNCHECK:TRUE
X-MS-OLK-CONFTYPE:0
X-MICROSOFT-CDO-ALLDAYEVENT:1
X-MICROSOFT-MSNCALENDAR-ALLDAYEVENT:1
END:VEVENT
END:VCALENDAR