BEGIN:VCALENDAR
PRODID:-//Microsoft Corporation//Outlook 12.0 MIMEDIR//EN
VERSION:2.0
CALSCALE:GREGORIAN
BEGIN:VEVENT
UID: 58cec93f-7267-4b72-83d7-43290d0afaa1
SUMMARY:RKT koolitus Visandite, tööjooniste, kavandite tegemiseks graafikalaudade kasutamise koolitus
DTSTAMP:20211230T000000
DTSTART:20211230T000000
DTEND:20211230T074100
LOCATION:
DESCRIPTION: <p>	<strong>Riikliku koolitustellimuse koolitus Visandite, tööjooniste, kavandite tegemiseks graafikalaudade kasutamise koolitus</strong></p><p>	<strong>Koolituse pikkus: </strong>26 tundi</p><p>	<strong>Koolitus toimub: 19.veebruar, 5.märts ja 12.märts 2022</strong></p><p>	<strong>Koolituse läbinud õppija:</strong></p><ul>	<li>		Teab ja oskab kasutada graafikalauda kui arvutiga töötamise vahendit. Teeb vahet erinevatel graafikalaudadel ja oskab oma vajadustele sobivat lauda valida. Oskab graafikalauda oma arvutiga ühendada ning arvuti funktsioone kujundustööks sobivaks seadistada.</li>	<li>		Teeb vahet vektor- ja rastergraafikal. Teab vektorgraafika eripärasid ja kasutusvaldkondi. Oskab luua vektorgraafikat ja teeb vahet enim levinud vektorgraafika failitüüpidel.</li>	<li>		Tunneb vabavaralist vektorgraafika tarkvara „Inkscape” põhifunktsioone. Oskab Inkscape kasutades luua lihtsamaid kujundusi ja mustreid. On võimeline töötama graafikalauaga Inkscape tarkvaras.</li>	<li>		Omab baasteadmisi tööst graafikalauaga ja luua seda kasutades lihtsamaid graafilisi töid – logosid, mustreid, kujundeid, visandeid.</li></ul><p>	<strong>Koolitaja:</strong></p><p>	<strong>Tarmo Sirkel</strong></p><p>	MCP - Microsoft Certified Proffesional 2014</p><p>	2000-2005 töötas IT alal erinevates era kui ka riigi ettevõtetes.<br />	2000-2018 töötas erinevate MTÜde kujundajana ja WEBmasterina. Samal ajal pakkus samasid teenuseid erinevatele projektidele ja üritustele. Lisaks pakkus eelnimetatule Audio-videotehnilist ja IT tuge.<br />	2018&nbsp; - kuni tänaseni Viljandi Haigla meditsiiniseadmete tehnik<br />	2020 &nbsp;- kuni tänaseni OÜ Naks-naks, mis pakub kujunduskoolitus, IT ja käsitööteenuseid.</p><p>	Koolituse täpsema õppekava leiad <a href="/sites/olustvere.edu.ee/files/graafikalaudade_kasutamise_koolitus_0.docx">SIIT</a></p><p>	Koolitusele saad registreerida <a href="https://docs.google.com/forms/d/1tDkMll7ccLG-wUBO5xf8hfvgm03Q_n4FII5r0yQ_cUw/">SIIN</a></p><div class="pilt-class">	  Koolituse läbiviimist toetavad Euroopa Liidu Sotsiaalfond ning Haridus- ja Teadusministeerium ning see on osalejatele TASUTA</div><p><strong>Link: </strong>https://www.olustvere.edu.ee/et/koolituste-kalender/rkt-koolitus-visandite-toojooniste-kavandite-tegemiseks-graafikalaudade-kasutamise-koolitus</p><p><strong>Hind: </strong></p>
STATUS:CONFIRMED
SEQUENCE:3
X-ALT-DESC;FMTTYPE=text/html:<p>	<strong>Riikliku koolitustellimuse koolitus Visandite, tööjooniste, kavandite tegemiseks graafikalaudade kasutamise koolitus</strong></p><p>	<strong>Koolituse pikkus: </strong>26 tundi</p><p>	<strong>Koolitus toimub: 19.veebruar, 5.märts ja 12.märts 2022</strong></p><p>	<strong>Koolituse läbinud õppija:</strong></p><ul>	<li>		Teab ja oskab kasutada graafikalauda kui arvutiga töötamise vahendit. Teeb vahet erinevatel graafikalaudadel ja oskab oma vajadustele sobivat lauda valida. Oskab graafikalauda oma arvutiga ühendada ning arvuti funktsioone kujundustööks sobivaks seadistada.</li>	<li>		Teeb vahet vektor- ja rastergraafikal. Teab vektorgraafika eripärasid ja kasutusvaldkondi. Oskab luua vektorgraafikat ja teeb vahet enim levinud vektorgraafika failitüüpidel.</li>	<li>		Tunneb vabavaralist vektorgraafika tarkvara „Inkscape” põhifunktsioone. Oskab Inkscape kasutades luua lihtsamaid kujundusi ja mustreid. On võimeline töötama graafikalauaga Inkscape tarkvaras.</li>	<li>		Omab baasteadmisi tööst graafikalauaga ja luua seda kasutades lihtsamaid graafilisi töid – logosid, mustreid, kujundeid, visandeid.</li></ul><p>	<strong>Koolitaja:</strong></p><p>	<strong>Tarmo Sirkel</strong></p><p>	MCP - Microsoft Certified Proffesional 2014</p><p>	2000-2005 töötas IT alal erinevates era kui ka riigi ettevõtetes.<br />	2000-2018 töötas erinevate MTÜde kujundajana ja WEBmasterina. Samal ajal pakkus samasid teenuseid erinevatele projektidele ja üritustele. Lisaks pakkus eelnimetatule Audio-videotehnilist ja IT tuge.<br />	2018&nbsp; - kuni tänaseni Viljandi Haigla meditsiiniseadmete tehnik<br />	2020 &nbsp;- kuni tänaseni OÜ Naks-naks, mis pakub kujunduskoolitus, IT ja käsitööteenuseid.</p><p>	Koolituse täpsema õppekava leiad <a href="/sites/olustvere.edu.ee/files/graafikalaudade_kasutamise_koolitus_0.docx">SIIT</a></p><p>	Koolitusele saad registreerida <a href="https://docs.google.com/forms/d/1tDkMll7ccLG-wUBO5xf8hfvgm03Q_n4FII5r0yQ_cUw/">SIIN</a></p><div class="pilt-class">	  Koolituse läbiviimist toetavad Euroopa Liidu Sotsiaalfond ning Haridus- ja Teadusministeerium ning see on osalejatele TASUTA</div><p><strong>Link: </strong>https://www.olustvere.edu.ee/et/koolituste-kalender/rkt-koolitus-visandite-toojooniste-kavandite-tegemiseks-graafikalaudade-kasutamise-koolitus</p><p><strong>Hind: </strong></p>
X-MICROSOFT-CDO-BUSYSTATUS:OOF
X-MICROSOFT-CDO-IMPORTANCE:1
X-MICROSOFT-DISALLOW-COUNTER:FALSE
X-MS-OLK-ALLOWEXTERNCHECK:TRUE
X-MS-OLK-CONFTYPE:0
X-MICROSOFT-CDO-ALLDAYEVENT:
X-MICROSOFT-MSNCALENDAR-ALLDAYEVENT:
END:VEVENT
END:VCALENDAR