BEGIN:VCALENDAR
PRODID:-//Microsoft Corporation//Outlook 12.0 MIMEDIR//EN
VERSION:2.0
CALSCALE:GREGORIAN
BEGIN:VEVENT
UID: d9e98287-f73b-4e8e-b2bc-7264668326c0
SUMMARY:Tasuline töötuba: Väikeharjade valmistamine
DTSTAMP:20221217T140000
DTSTART:20221217T140000
DTEND:20221217T160000
LOCATION:
DESCRIPTION: <div class="row">	<div class="col-12 sm-12">		<p>			<strong>Tasuline töötuba: Väikeharjade valmistamine</strong></p>		<p>			<strong>Töötuba toimub: </strong>17.detsembril 2022</p>		<p>			<strong>Töötoa pikkus:</strong> 2 tundi</p>		<p>			Töötoas valmib looduslikust sorgo kiust käsihari, mis on praktiliseks abiks sinu kodu igapäevaelus. Töötoas valmiva harja saab osaleja endale.</p>		<p>			Lihtsa ja naturaalse olemusega hari pole lihtsalt hari, vaid annab esteetilist karakterit sisustuselemendina. Kõrreliste sugukonda kuuluv sorgo on tugev ja kergelt painduv kiud, mida õpib iga töötoas osaleja oma käe all lähemalt tundma.</p>		<p>			Samuti tehakse ülevaade käsiharjade valmistamise stiilidest ja erinevatest kõrreliste kiududest, millest harju tehakse.&nbsp;</p>		<p>			<strong>Töötoa juhendaja:</strong> Mirjam Pärnamets, kes on lõpetanud mööblidisaini eriala Kõrgemas Kunstikoolis Pallas.</p>		<p>			Töötoa hind: 30 eurot osaleja</p>		<p>			Töötuppa saab registreerida <a href="https://docs.google.com/forms/d/1oN-iOj9UCDHycN3b9Q4IhBXWPDS0I61Th3TvdLKSZpo/">SIIN</a></p>	</div></div><p><strong>Link: </strong>https://www.olustvere.edu.ee/et/sundmuste-kalender/tasuline-tootuba-vaikeharjade-valmistamine-0</p><p><strong>Hind: </strong>30</p>
STATUS:CONFIRMED
SEQUENCE:3
X-ALT-DESC;FMTTYPE=text/html:<div class="row">	<div class="col-12 sm-12">		<p>			<strong>Tasuline töötuba: Väikeharjade valmistamine</strong></p>		<p>			<strong>Töötuba toimub: </strong>17.detsembril 2022</p>		<p>			<strong>Töötoa pikkus:</strong> 2 tundi</p>		<p>			Töötoas valmib looduslikust sorgo kiust käsihari, mis on praktiliseks abiks sinu kodu igapäevaelus. Töötoas valmiva harja saab osaleja endale.</p>		<p>			Lihtsa ja naturaalse olemusega hari pole lihtsalt hari, vaid annab esteetilist karakterit sisustuselemendina. Kõrreliste sugukonda kuuluv sorgo on tugev ja kergelt painduv kiud, mida õpib iga töötoas osaleja oma käe all lähemalt tundma.</p>		<p>			Samuti tehakse ülevaade käsiharjade valmistamise stiilidest ja erinevatest kõrreliste kiududest, millest harju tehakse.&nbsp;</p>		<p>			<strong>Töötoa juhendaja:</strong> Mirjam Pärnamets, kes on lõpetanud mööblidisaini eriala Kõrgemas Kunstikoolis Pallas.</p>		<p>			Töötoa hind: 30 eurot osaleja</p>		<p>			Töötuppa saab registreerida <a href="https://docs.google.com/forms/d/1oN-iOj9UCDHycN3b9Q4IhBXWPDS0I61Th3TvdLKSZpo/">SIIN</a></p>	</div></div><p><strong>Link: </strong>https://www.olustvere.edu.ee/et/sundmuste-kalender/tasuline-tootuba-vaikeharjade-valmistamine-0</p><p><strong>Hind: </strong>30</p>
X-MICROSOFT-CDO-BUSYSTATUS:OOF
X-MICROSOFT-CDO-IMPORTANCE:1
X-MICROSOFT-DISALLOW-COUNTER:FALSE
X-MS-OLK-ALLOWEXTERNCHECK:TRUE
X-MS-OLK-CONFTYPE:0
X-MICROSOFT-CDO-ALLDAYEVENT:
X-MICROSOFT-MSNCALENDAR-ALLDAYEVENT:
END:VEVENT
END:VCALENDAR